BEGIN:VCALENDAR
VERSION:2.0
PRODID:-//IELTSpresso - ECPv6.11.2//NONSGML v1.0//EN
CALSCALE:GREGORIAN
METHOD:PUBLISH
X-WR-CALNAME:IELTSpresso
X-ORIGINAL-URL:https://ieltspresso.com
X-WR-CALDESC:Events for IELTSpresso
REFRESH-INTERVAL;VALUE=DURATION:PT1H
X-Robots-Tag:noindex
X-PUBLISHED-TTL:PT1H
BEGIN:VTIMEZONE
TZID:Asia/Krasnoyarsk
BEGIN:STANDARD
TZOFFSETFROM:+0700
TZOFFSETTO:+0700
TZNAME:+07
DTSTART:20250101T000000
END:STANDARD
END:VTIMEZONE
BEGIN:VEVENT
DTSTART;VALUE=DATE:20250201
DTEND;VALUE=DATE:20260501
DTSTAMP:20260423T165441
CREATED:20241127T070309Z
LAST-MODIFIED:20251121T025713Z
UID:15171-1738368000-1777593599@ieltspresso.com
SUMMARY:Australia Awards Scholarship
DESCRIPTION:Open in 1 Feb – 30 April  \nRequirement \nJenjang S-2 \n\nMemilih bidang studi yang termasuk dalam area prioritas pembangunan AAS\nSudah menerima gelar sarjana;\nMempunyai IPK minimal 2\,9 (dengan skala maksimal 4) di jenjang pendidikan terakhir. Untuk pelamar dari Area Fokus Geografis dan pelamar difabel mempunyai IPK minimal 2\,75 (dengan skala maksimal 4) di jenjang pendidikan terakhir;\nKhusus pelamar jalur Gov of Indonesia (Goi) IELTS minimal 6\,0\nKhusus pelamar jalur Equity Target Groups: IELTS minimal 4.5\nKhusus pelamar jalur Non Targeted: IELTS minimal 6.0\n\n  \nJenjang S-3 \n\nMemilih bidang studi yang termasuk dalam area prioritas pembangunan AAS\nSudah memegang gelar Master (gelar jenjang pendidikan spesialis ataupun profesi tidak dikategorikan sebagai gelar Master);\nMempunyai IPK minimal 3.0 (dengan skala maksimal 4) di jenjang pendidikan terakhir. Untuk pelamar dari Area Fokus Geografis dan pelamar difabel mempunyai IPK minimal 2\,75 (dengan skala maksimal 4) di jenjang pendidikan terakhir;\nKhusus pelamar jalur Gov of Indonesia (Goi) S2/S3  IELTS minimal 6\,0\nKhusus pelamar jalur Equity Target Groups (S2) IELTS minimal 4.5 & (S3) IELTS minimal 6.0\nKhusus pelamar jalur Non Targeted (S2) IELTS minimal 6.0 & (S3) IELTS minimal 6.5\nMelampirkan bukti komunikasi dengan kandidat pembimbing di universitas Australia terkait bidang studi dan proposal penelitian;\n\n  \nDocuments \n➡️Untuk Jenjang S2 & S3  \n\nIjazah \nTranskrip akademik \nAkta kelahiran\nKTP\nCV\nIELTS (4.5 – 6.5)\nAcademic referee report \n\n➡️Khusus Pelamar S2 (Masters by Coursework) \n\nOther referee report \n\n➡️Khusus S3  \n\nLetter of support dari universitas Australia (disarankan)\n\n➡️Khusus pelamar kategori Government of Indonesia (Gol) \n\nNominating Agency Declaration\nSurat Keputusan Pengangkatan PNS\n\n➡️Khusus pelamar kategori Targeted \n\nDokumen tambahan seperti SK PNS\, KTP\, surat pernyataan disabilitas\, dll.\n\n  \nBenefit \n\nPelatihan sebelum keberangkatan di Indonesia (Pre-Departure Training atau PDT);\nTiket pesawat pulang pergi ke lokasi PDT di Indonesia;\nUang saku selama PDT di Indonesia;\nBiaya visa\, pemeriksaan medis\, dan rontgen;\nDana penunjang pada saat kedatangan;\nTiket pesawat PP Indonesia-Australia pada awal dan akhir penerimaan beasiswa\nBiaya kuliah;\nBantuan untuk biaya hidup selama belajar di Australia;\nPengantar program akademik;\nAsuransi kesehatan selama periode beasiswa;\nDukungan akademis tambahan;\nTiket pesawat reuni pulang pergi (hanya untuk Master yang berdurasi minimal 2 tahun dan PhD yang tidak membawa keluarga ke Australia); dan\nTunjangan kerja lapangan untuk program PhD dan Master (kerja lapangan merupakan komponen wajib dalam penelitian).\n\n  \nTahapan Seleksi \n\nPendaftaran \nPengumuman hasil seleksi administrasi\nInterview\nPengumuman Akhir\n\nBagikan Artikel :
URL:https://ieltspresso.com/event/australia-awards-scholarship/
LOCATION:Australia
CATEGORIES:Beasiswa S2,Beasiswa S3,Full Funded
END:VEVENT
BEGIN:VEVENT
DTSTART;VALUE=DATE:20251201
DTEND;VALUE=DATE:20260316
DTSTAMP:20260423T165441
CREATED:20241129T035749Z
LAST-MODIFIED:20251124T021954Z
UID:15581-1764547200-1773619199@ieltspresso.com
SUMMARY:Taiwan ICDF Scholarship
DESCRIPTION:Open from 1 December until 15 March (Annual) \nRequirements \n\nWarga negara salah satu partner country Taiwan ICDF Scholarship (Indonesia termasuk)\nMemenuhi persyaratan admission kampus dan program studi tujuan\nDapat memenuhi syarat regulasi VISA Resident\nBerkomitmen untuk tidak double funding dengan beasiswa pemerintah Taiwan lainnya\nTidak pernah memiliki pengalaman beasiswa dicabut dari pemerintah Taiwan sebelumnya\nIELTS/TOEFL tergantung program studi tujuan\nAcademic Standardized Test tergantung program studi tujuan \n\nDocuments \n\nApplication form\nKTP/Passport\nIjazah & transkrip akademik\nSurat rekomendasi\n\nBenefits \n\n100% tuition fee\nCredit fee\nTunjangan tempat tinggal\nTiket pesawat PP\nAsuransi kesehatan\nBiaya buku\nVISA\nTunjangan hidup NT$ 18\,000/bulan atau Rp9\,6 juta/bulan (S2)\nTunjangan hidup NT$ 20\,000/bulan atau Rp10\,7/bulan (S2)\n\nTahapan Seleksi \n\nPendaftaran beasiswa\nPeninjauan oleh Kedutaan & dikirim ke Universitas mitra\nPeninjauan rekrutmen bersama \nPengumuman \n\nBagikan Artikel :
URL:https://ieltspresso.com/event/taiwan-icdf-scholarship/
LOCATION:Taiwan\, Taiwan
CATEGORIES:Beasiswa S1,Beasiswa S2,Beasiswa S3,Full Funded
END:VEVENT
BEGIN:VEVENT
DTSTART;VALUE=DATE:20251201
DTEND;VALUE=DATE:20260602
DTSTAMP:20260423T165441
CREATED:20241129T084911Z
LAST-MODIFIED:20251124T020802Z
UID:15641-1764547200-1780358399@ieltspresso.com
SUMMARY:Japan IMF Scholarship Program for Asia (JISPA)
DESCRIPTION:Open Track: December\nMaster’s Track: October \nPhD Track: June \nRequirements \n\nWNI\nPrioritas usia di bawah 40 tahun\nIELTS min. 6.0/TOEFL ITP min. 550\nBekerja di badan ekonomi seperti central bank\, ministry of economy\, ministry of finance\, atau financial regulatory agency\nPrioritas bagi kandidat yang belum pernah mendapat gelar S2 di luar negara asal dan memiliki 2-3 tahun pengalaman kerja di sektor publik\nKandidat yang bekerja di bidang pemerintahan yang memberikan dampak signifikan dalam formulasi atau implementasi kebijakan macroeconomic akan dipertimbangkan\n\nDocuments \n\nApplication form\nCV\nIjazah & transkripd akademik\nSurat rekomendasi\nProposal penelitian\nUntuk kategori open track\, kandidat harus mengirim LoA di universitas tujuan atau copy dokumen aplikasi ke universitas tujuan serta thesis (or equivalent paper) dari jenjang S2\n\nBenefits \n\n100% tuition fee \nBiaya pendaftaran\nTunjangan riset\nTunjangan hidup\nAsuransi kesehatan\nTiket pesawat PP\nBiaya program orientasi (Master/PhD track only)\nBiaya kunjungan lapangan tahunan (Master/PhD track only)\nTunjangan komputer/software (khusus program magister)\nBiaya terkait penelitian\, termasuk biaya penelitian lapangan dan biaya kehadiran konferensi (khusus program PhD open track\n\nTahapan Seleksi \n\nOpen Track\n\nPendaftaran\nSeleksi administrasi\nSeleksi wawancara\nPengumuman \n\n\nMaster’s Track \n\nPendaftaran \nUjian matematika \nSeleksi wawancara\nPengumuman \n\n\n\nBagikan Artikel :
URL:https://ieltspresso.com/event/japan-imf-scholarship-program-for-asia-jispa/
LOCATION:Jepang
CATEGORIES:Beasiswa S2,Beasiswa S3,Full Funded
END:VEVENT
BEGIN:VEVENT
DTSTART;VALUE=DATE:20260101
DTEND;VALUE=DATE:20260401
DTSTAMP:20260423T165441
CREATED:20251120T132933Z
LAST-MODIFIED:20251120T132933Z
UID:20344-1767225600-1775001599@ieltspresso.com
SUMMARY:Ajinomoto Scholarship
DESCRIPTION:Open in:  Januari–Maret 2026 \n  \nRequirement \n\nPendaftar memiliki background pendidikan di bidang nutrition\, science\, food science\, agriculture\, engineering dan tertarik untuk melanjutkan studi di universitas di bawah ini:\n\nThe University of Tokyo\nKyoto University\nNagoya University\nInstitute of Science Tokyo\nOchanomizu University\nWaseda University\nKagawa Nutrition University\n\n\nIPK min.  3\,50\nMaksimal usia pendaftar 35 tahun\nMendapat rekomendasi dari rektor/dosen pembimbing\n\nDocuments \n\nOnline form\nDokumen admission sesuai syarat program dan universitas tujuan\nIjazah & Transkrip\nSurat Rekomendasi\nDokumen Pendukung: Surat Pernyataan Kebenaran\, Surat Sehat\nIELTS/JLPT (sertifikat bahasa Jepang)\n\nBenefit  \n\n100% tuition fee\nBiaya ujian\nBiaya masuk universitas\nTiket pesawat PP\nTunjangan hidup ¥180\,000/bulan atau Rp19\,4  juta/bulan (max. 2 tahun) & ¥ 150\,000/bulan atau Rp16\,2 juta/bulan untuk Research Student\n\nTahapan Seleksi \n\nPendaftaran beasiswa\nSeleksi administrasi\nTes Psikologi\nSeleksi wawancara\nPengumuman\n\nBagikan Artikel :
URL:https://ieltspresso.com/event/ajinomoto-scholarship/
LOCATION:Jepang
CATEGORIES:Beasiswa S2,Full Funded
END:VEVENT
BEGIN:VEVENT
DTSTART;VALUE=DATE:20260101
DTEND;VALUE=DATE:20270101
DTSTAMP:20260423T165441
CREATED:20241129T001939Z
LAST-MODIFIED:20251120T134839Z
UID:15457-1767225600-1798761599@ieltspresso.com
SUMMARY:DAAD EPOS - Development-Related Postgraduate Courses
DESCRIPTION:Tanggal pendaftaran berbeda-beda sesuai program studi \n  \nRequirement \n\nPelamar wajib memiliki pengalaman kerja minimal 2 tahun di sektor pembangunan\nMemilih program:\n📌 Ekonomi\, administrasi bisnis\, ekonomi politik\n📌 Kerja sama pembangunan\n📌 Teknik & sains terapan\n📌 Perencanaan wilayah dan kota\n📌 Ilmu pertanian & kehutanan\n📌 Ilmu alam & lingkungan\n📌 Kesehatan masyarakat & kedokteran\n📌 Ilmu sosial\, pendidikan\, & hukum\n📌 Studi media\n\n\nDocuments \n\nCV format Europass\nSurat motivasi (maks. 1 halaman)\n Surat rekomendasi dari atasan kerja\n Bukti pengalaman kerja min. 2 tahun setelah lulus S1 (di bidang pembangunan)\nSertifikat bahasa: IELTS (skor tergantung jurusan)\, atau sertifikat bahasa Jerman kalau jurusanmu berbahasa Jerman\nIjazah & transkrip nilai\n\n  \nBenefit \n\nUang saku bulanan €992 (S2) atau €1.300 (S3)\n Asuransi kesehatan\, kecelakaan\, dan personal liability\nTiket perjalanan\nSubsidi tempat tinggal (sesuai kondisi)\nTunjangan keluarga (jika eligible)\n\n  \nTahapan Seleksi \n\nPendaftar Submit aplikasi pendaftaran langsung ke universitas & program studi\nKomite Seleksi mereview dokumen & menyerahkan rekomendasi (shortlisted) peserta ke DAAD\nShortlisted kandidat akan dihubungi oleh DAAD dan diminta untuk mengupload dokumen persyaratan ke portal DAAD\nSeleksi Tahap Akhir & Final Announcement\n\nBagikan Artikel :
URL:https://ieltspresso.com/event/daad-epos/
LOCATION:Jerman
CATEGORIES:Beasiswa S2,Beasiswa S3,Full Funded
END:VEVENT
BEGIN:VEVENT
DTSTART;VALUE=DATE:20260101
DTEND;VALUE=DATE:20260502
DTSTAMP:20260423T165441
CREATED:20241129T014010Z
LAST-MODIFIED:20251120T131843Z
UID:15499-1767225600-1777679999@ieltspresso.com
SUMMARY:British Council for Women in STEM Scholarship
DESCRIPTION:Open: January 2026 \nRequirement \n\nTeridentifikasi sebagai Wanita\nBerkewarganegaraan di negara yang termasuk dalam list partner British Council Women in STEM (Indonesia termasuk)\nTelah mensubmit postgraduate programme admission di salah satu universitas di Inggris Raya yang menjadi partner British Council Women in STEM\nIELTS/TOEFL tergantung program studi tujuan\nIPK tergantung program studi tujuan\nLulus S1\nBersedia kembali ke negara asal min. 2 tahun setelah beasiswa selesai\nBelum pernah menempuh studi jenjang sebelumnya di UK\n\nDocuments \n\nKTP/Passport\nIjazah & transkrip akademik\nStudy Plan\nDokumen lainnya mengikutiprogram studi tujuan\n\nBenefit \n\n100% tuition fee\nTunjangan hidup \nAccomodation\nTunjangan anak\nKursus bahasa Inggris (jika diperlukan)\nIELTS exam fee/reimbursement\nVISA\nAsuransi kesehatan\nTiket pesawat PP\n\nTahapan Seleksi \n\nPendaftaran beasiswa\nSeleksi administrasi\nSeleksi wawancara\nPengumuman\n\nBagikan Artikel :
URL:https://ieltspresso.com/event/british-council-for-women-in-stem-scholarship/
LOCATION:United Kingdom
CATEGORIES:Beasiswa S2,Full Funded
END:VEVENT
BEGIN:VEVENT
DTSTART;VALUE=DATE:20260101
DTEND;VALUE=DATE:20260701
DTSTAMP:20260423T165441
CREATED:20241129T083437Z
LAST-MODIFIED:20251123T165023Z
UID:15630-1767225600-1782863999@ieltspresso.com
SUMMARY:World in Serbia Scholarship
DESCRIPTION:Open from January until June (Annual) \nRequirements \n\nEnglish Test min. A1 level \nUmur min. di bawah 25 tahun untuk S2\nUmur min. di bawah 35 tahun untuk S3\nTidak ada syarat IPK\n\nDocuments \n\nApplication form\nKTP/Passport\nCV\nMotivation Letter\nIjazah & transkrip akademik\nKonfirmasi kondisi kesehatan tidak lebih dari 6 bulan terakhir (sertifikat medis)\n\n*Semua dokumen harus diterjemahkan dalam bahasa Inggris/Serbia \n  \nBenefits \n\n100% tuition fee\nKelas persiapan bahasa Serbia\nPendanaan total RSD18\,000/bulan atau Rp2\,9 juta/bulan\nAkomodasi\nAsuransi kesehatan\nFree VISA Residence\n\nTahapan Seleksi \n\nPendaftaran beasiswa\nSeleksi\nPengumuman\n\nBagikan Artikel :
URL:https://ieltspresso.com/event/world-in-serbia-scholarship/
LOCATION:Serbia\, Serbia
CATEGORIES:Beasiswa S2,Beasiswa S3,Full Funded
END:VEVENT
BEGIN:VEVENT
DTSTART;VALUE=DATE:20260115
DTEND;VALUE=DATE:20260816
DTSTAMP:20260423T165441
CREATED:20241129T014624Z
LAST-MODIFIED:20251122T172321Z
UID:15501-1768435200-1786838399@ieltspresso.com
SUMMARY:The University of Oxford - The Rhodes Scholarships for Global
DESCRIPTION:Open from 1 January-August 2026 \nRequirement \n\nBerusia maksimal 27 tahun\nFirst Class Honour Degree\nMemenuhi kriteria admission di program studi yang dituju di Oxford University\nMemiliki IPK 3\,70/4.00\nMemenuhi syarat minimal English Proficiency Test Score yang ditetapkan Oxford University\n\nDocuments \n\nPersonal Statement\nAcademic Statement\nReference Letter\nIjazah & Transkrip\nID/Passport\nApplication Form\nIELTS 7.0\n\nBenefit \n\n100% tuition fee\nTunjangan hidup £1\,591/bulan atau Rp34\,9 juta/bulan (£19\,092/tahun atau Rp419\,5 juta/tahun)\nVISA\nAsuransi kesehatan\nTunjangan tempat tinggal\nTiket pesawat PP\n\nTahapan Seleksi \n\nPendaftaran kampus & beasiswa\nSeleksi administrasi\nSeleksi wawancara\nPengumuman\n\nBagikan Artikel :
URL:https://ieltspresso.com/event/the-university-of-oxford-the-rhodes-scholarships-for-global/
LOCATION:United Kingdom
CATEGORIES:Beasiswa S2,Beasiswa S3,Full Funded
END:VEVENT
BEGIN:VEVENT
DTSTART;VALUE=DATE:20260129
DTEND;VALUE=DATE:20260313
DTSTAMP:20260423T165441
CREATED:20241129T025446Z
LAST-MODIFIED:20251121T030719Z
UID:15548-1769644800-1773359999@ieltspresso.com
SUMMARY:Romanian Government Scholarship
DESCRIPTION:Open in 29 January – 12 March  \nRequirement \n\nHave good results in education\, respectively an average of the study years\, for the last graduated school of at least 7 (seven) corresponding to the scoring system in Romania or the “Good” score\, as the case;\nApplicants may select their study program of interest in all fields\, with the exception of Medicine\, Dental Medicine and Pharmacy. For Bachelor and Master\, only study programs in Romanian are available\, thus promoting the Romanian language and culture. However\, at PhD level\, applicants can also opt for a program in English or a foreign language set by the doctoral school.\n\nDocuments \n\nCopy ijazah dan terjemahan resmi ke dalam bahasa Inggris\, Prancis\, Spanyol\, atau Rumania\nCopy academic transcript dan terjemahan resmi ke dalam bahasa Inggris\, Prancis\, Spanyol\, atau Rumania.\nCopy akta kelahiran (atau dokumen yang setara) dan terjemahan resmi ke dalam bahasa Inggris\, Prancis\, Spanyol\, atau Rumania.\nCopy tiga halaman pertama paspor atau dokumen identitas nasional dan terjemahan resmi ke dalam bahasa Inggris\, Prancis\, Spanyol\, atau Rumania..\nCV dalam bahasa Inggris atau Prancis\nUntuk program doktoral\, kandidat harus menyerahkan Letter of Intent yang berisi daftar karya ilmiah\, publikasi\, deskripsi terperinci dari proyek penelitian yang diusulkan\, serta persetujuan dari seorang pembimbing yang harus menjadi anggota doctoral school. Dokumen harus ditulis dalam bahasa Inggris\, Prancis\, atau Rumania.\n\nBenefit  \n\nGratis biaya pendaftaran kuliah dan biaya tes lainnya. \nGratis biaya kuliah untuk tahun persiapan bahasa Rumania\nPendanaan tuition fee \nAkomodasi di asrama mahasiswa\nBantuan medis dalam kasus darurat dan penyakit dengan potensi endemik-epidemi\, sesuai dengan undang-undang yang berlaku\nBiaya transportasi u\nBiaya visa pelajar \nTunjangan bulanan sejumlah 65 EURO (S1)\, 75 EURO (S2)\, 85 EURO (S3). Tunjangan ini hanya bisa didapatkan jika mahasiswa memperoleh 60 transferable credits di akhir setiap tahun akademik.\n\n  \nTahapan Seleksi \n\nPendaftaran \nSeleksi administrasi\nPengumuman \n\nBagikan Artikel :
URL:https://ieltspresso.com/event/romanian-government-scholarship/
LOCATION:Romania\, Romania
CATEGORIES:Beasiswa S1,Beasiswa S2,Beasiswa S3,Full Funded
END:VEVENT
BEGIN:VEVENT
DTSTART;VALUE=DATE:20260201
DTEND;VALUE=DATE:20260401
DTSTAMP:20260423T165441
CREATED:20251120T142748Z
LAST-MODIFIED:20251120T142748Z
UID:20383-1769904000-1775001599@ieltspresso.com
SUMMARY:KOICA Scholarship
DESCRIPTION:Open in February (KOICA round) or March (University round) \n  \nRequirement \n\nBe a citizen of an eligible country (list provided below)\nHold a Bachelor’s degree\nBe under 40 years of age\nBe in good health\nHave strong English skills (both speaking and writing)\n\n  \n  \nDocuments \n\nA. List of KOICA Application Documents [Applicant of KOICA/Korean Embassy Round]\nKOICA Application Forms\nThe letter of Recommendation from the applicant’s government (in charge of ODA or Abroad scholarship program)\nA scanned copy of an applicant’s valid passport\nOnline System or Email Submission of UNIVERSITY Application Documents [Applicant of University Round those who passed the KOICA Round]\nDetailed documents  will be provided to each individual by the university\, so please refer to the university’s guidance for specific details. \nSubmission of University Application & Documents Original COPY [Applicant of University Round those who passed the University Round]\n Original Copy of University Application & Documents \n\n  \nBenefit  \n\nFull tuition fees\nMonthly stipend\nAccommodation\nRound-trip airfare\nHealth insurance\nSettlement allowance\nResearch funds and study materials\nKorean language training\n\n  \nTahapan Seleksi \n\nSubmit application documents and receive a government nomination.\nAttend an interview at the KOICA Country Office (or Korean Embassy in your home country).\nUniversity review of application documents.\nUniversity interview or test and a local medical check-up.\nFinal health check-up & orientation upon arrival in Korea.\nStart your degree program in South Korea.\n\nBagikan Artikel :
URL:https://ieltspresso.com/event/koica-scholarship/
LOCATION:Korea Selatan
CATEGORIES:Beasiswa S2,Beasiswa S3,Full Funded
END:VEVENT
BEGIN:VEVENT
DTSTART;VALUE=DATE:20260301
DTEND;VALUE=DATE:20260302
DTSTAMP:20260423T165441
CREATED:20241129T085817Z
LAST-MODIFIED:20251124T021639Z
UID:15655-1772323200-1772409599@ieltspresso.com
SUMMARY:Ernst Mach-Grant-ASEA-UNINET Music Practice Grant
DESCRIPTION:Open until 1 March (Annual) \nRequirements \n\nUsia max. 35 tahun (S1\, S2\, dan S3)\nUsia max. 45 tahun (Postdoc)\nMemiliki skill bahasa Inggris dan/atau Jerman yang sangat baik\nTidak tinggal/belajar/melakukan penelitian/melakukan pekerjaan akademis di Austria dalam enam bulan terakhir sebelum menerima hibah\n\nDocuments \n\nApplication form\nKTP/Passport\nProposal penelitian (5–10 halaman)\nLoA\nSurat rekomendasi\nIjazah & transkrip akademik\nDi bidang Praktik Musik: Statement of Motivation (menggantikan Proposal Penelitian) dengan klip video dan/atau musik yang menunjukkan praktik musik pelamar dan dibutuhkan Endorsement Letter yang dikeluarkan bersama oleh Universitas Musik Austria setelah audisi berhasil lulus (menggantikan Surat Persetujuan dari pembimbing)\n\nBenefits \n\nBantuan biaya kuliah (dapat dibebaskan atas permintaan ke rektorat universitas negeri atau perguruan tinggi universitas untuk pendidikan guru DAN tidak berlaku di universitas swasta)\nTunjangan hidup €1\,300 atau Rp25 juta \nSubsidi biaya perjalanan hingga €1\,200 atau Rp23 juta\n\nTahapan Seleksi \n\nPendaftaran kampus & beasiswa\nSeleksi\nPengumuman\n\nBagikan Artikel :
URL:https://ieltspresso.com/event/ernst-mach-grant-asea-uninet-music-practice-grant/
LOCATION:Austria\, Austria
CATEGORIES:Beasiswa S1,Beasiswa S2,Beasiswa S3,Partial Funded,Postdoctoral
END:VEVENT
BEGIN:VEVENT
DTSTART;VALUE=DATE:20260301
DTEND;VALUE=DATE:20260401
DTSTAMP:20260423T165441
CREATED:20241129T004526Z
LAST-MODIFIED:20251121T031544Z
UID:15475-1772323200-1775001599@ieltspresso.com
SUMMARY:Government of Ireland – International Education Scholarships
DESCRIPTION:Open in: Deadline Maret \n  \nRequirement \n\nSemua pelamar S2/S3 harus memiliki calon supervisor dari kampus Irlandia dan language certificate (IELTS\, jika diminta oleh kampus tujuan).\nWarga negara di luar EU/EEA/United Kingdom\nKandidat wajib apply program master/doktoral di universitas di Ireland \nWajib telah memiliki conditional/unconditional offer dari salah satu universitas di Ireland\nProgram studi yang didaftar kandidat wajib bersifat full-time\n\nDocuments \n\nPersonal detail\nLoA\nAcademic/work history\nPersonal statements \nLetter of Reference \n\n  \nBenefit \n\nTunjangan  €22\,000 per tahun \nBiaya kuliah up to a max €5\,750 per tahun  \nTunjangan riset €3\,250 per tahun\n\n  \nTahapan Seleksi \n\nSeleksi administrasi\nPengumuman\n\nBagikan Artikel :
URL:https://ieltspresso.com/event/government-of-ireland-international-education-scholarships/
LOCATION:Ireland
CATEGORIES:Beasiswa S2,Beasiswa S3,Full Funded
END:VEVENT
BEGIN:VEVENT
DTSTART;VALUE=DATE:20260301
DTEND;VALUE=DATE:20260601
DTSTAMP:20260423T165441
CREATED:20241127T080224Z
LAST-MODIFIED:20251121T032220Z
UID:15273-1772323200-1780271999@ieltspresso.com
SUMMARY:KMUTT international Scholarship Program (KISP)
DESCRIPTION:Open: Maret–Mei 2026 \n  \nRequirement \n\nIELTS min 6.0/TOEFL iBT min.  80/TOEFL PBT min. 550\nIPK min. 2.5 untuk S1\nIPK min. 3.0 untuk S2\nUsia tidak ada syarat\nMerupakan warga negara asing non-Thailand\, kecuali yang berkewarganegaraan Thailand\, Kamboja\, Myanmar\, dan Vietnam (Indonesia termasuk) yang telah didukung oleh universitas dengan Beasiswa Multi-Intelektual.\nDiusulkan oleh fakultas/institusi/kantor universitas dan memiliki kualifikasi yang dipersyaratkan oleh universitas\n\n  \nDocuments \n\nApplication form\nPas foto\nIjazah & transkrip akademik\nLoA\nSurat rekomendasi\nSurat pengantar\nCV\nSurat Keterangan Penghasilan/Salinan bank statement terbaru dari rekening utama \n\nBenefit \n\n100% tuition fee\nTunjangan hidup 8.000 THB/bulan (S1)\nTunjangan hidup  10.000 THB/bulan (S2)\nPeralatan belajar 10.000 THB/tahun\nAsuransi kesehatan dan kecelakaan 2.300 THB/tahun\n\n  \nTahapan Seleksi \n\nPendaftaran\nSeleksi administrasi\nSeleksi wawancara\nPengumuman\n\nBagikan Artikel :
URL:https://ieltspresso.com/event/kmutt-international-scholarship-program-kisp/
LOCATION:Thailand
CATEGORIES:Beasiswa S1,Beasiswa S2,Full Funded
END:VEVENT
BEGIN:VEVENT
DTSTART;VALUE=DATE:20260301
DTEND;VALUE=DATE:20260601
DTSTAMP:20260423T165441
CREATED:20251121T031803Z
LAST-MODIFIED:20251121T031803Z
UID:20414-1772323200-1780271999@ieltspresso.com
SUMMARY:Kazakhstan Government Scholarship
DESCRIPTION:Open in: Maret – Mei \nRequirement \n\nThe candidate will receive higher and (or) postgraduate education under the scholarship program if he/she is studying for the first time at each of these levels\n\n  \nDocuments \n➡️Jenjang S1 \n\nCopy dokumen identitas \nIjazah dan transkrip akademik (beserta terjemahan bernotaris dalam bahasa Kazakh\, Russian or English) \n2 surat rekomendasi \nSurat kesehatan \nSurat undangan dari NGO Kazakhstan (jika ada).\n\n➡️Jenjang S2 \n\nSertifikat IELTS min. 5.5\nCopy dokumen identitas\nIjazah dan transkrip akademik (beserta terjemahan bernotaris dalam bahasa Kazakh\, Russian or English) \nIPK S1 min. 3.0/4.0\nMotivational essay \n2 surat rekomendasi \nSurat kesehatan \nSurat undangan dari Kazakhstani UNRWA (jika ada)\n\n➡️Jenjang S3 \n\nSertifikat IELTS min. 5.5\nCopy dokumen identitas\nIjazah dan transkrip akademik (beserta terjemahan bernotaris dalam bahasa Kazakh\, Russian or English) \nIPK S1 min. 3.0/4.0\nMotivational essay \n2 surat rekomendasi \nSurat kesehatan \nSurat undangan dari Kazakhstani UNRWA (jika ada)\nJustifikasi/Alasan Pemilihan Topik Penelitian Disertasi\n\n  \nBenefit \n\nBiaya kuliah full \nTunjangan bulanan  \n\n  \nTahapan Seleksi \n\nPendaftaran\nSeleksi\nPengumuman\n\nBagikan Artikel :
URL:https://ieltspresso.com/event/kazakhstan-government-scholarship/
LOCATION:Kazakhstan\, Kazakhstan
CATEGORIES:Beasiswa S1,Beasiswa S2,Beasiswa S3,Partial Funded
END:VEVENT
BEGIN:VEVENT
DTSTART;VALUE=DATE:20260301
DTEND;VALUE=DATE:20260601
DTSTAMP:20260423T165441
CREATED:20251121T032004Z
LAST-MODIFIED:20251121T032004Z
UID:20417-1772323200-1780271999@ieltspresso.com
SUMMARY:Chulalongkorn University Graduate Scholarship
DESCRIPTION:Open in: Maret – Mei\n \n  \nRequirement \n\nWarga negara ASEAN atau non-ASEAN (selain Thailand)\nDiutamakan bagi staf\, dosen\, atau peneliti di perguruan tinggi yang akan kembali ke kampus asal\nBelum pernah kuliah lebih dari 1 semester di Chulalongkorn\nJurusan yang dilamar harus relevan dengan pendidikan sebelumnya (dibuktikan dengan ijazah & transkrip)\nIPK S1 minimal 2\,75 dan IPK S2 minimal 3\,25\nUsia maksimal 40 tahun\nSkor IELTS minimal 5.0\n\n  \nDocuments \n\nFormulir pendaftaran + pasfoto ukuran 1 inch\nCV\nTranskrip akademik dari pendidikan terakhir\nIjazah (jika ada)\n Fotokopi paspor\nDua surat rekomendasi dari institusi tempat kamu bekerja/berafiliasi\nSurat keterangan sehat\n\nBenefit  \n\nTiket pesawat kelas ekonomi PP max. 8.500 baht per perjalanan\nBiaya kuliah\nUang saku + akomodasi bulanan 16.000 baht \n\nTahapan Seleksi \n\nPendaftaran: 15 Maret – 8 Mei 2025\nPengajuan nominasi oleh fakultas ke Kantor Bidang Akademik: 31 Mei 2025\n Seleksi dokumen oleh Kantor Bidang Akademik: 2-24 Juni 2025\nPengumuman hasil: 1 Juli 2025\n\nBagikan Artikel :
URL:https://ieltspresso.com/event/chulalongkorn-university-graduate-scholarship/
LOCATION:Thailand
CATEGORIES:Beasiswa S2,Beasiswa S3,Full Funded
END:VEVENT
BEGIN:VEVENT
DTSTART;VALUE=DATE:20260301
DTEND;VALUE=DATE:20260801
DTSTAMP:20260423T165441
CREATED:20241127T083746Z
LAST-MODIFIED:20251121T032635Z
UID:15284-1772323200-1785542399@ieltspresso.com
SUMMARY:Al Qasimia University Scholarship
DESCRIPTION:Open in: Maret–Juli 2026  \nRequirement \n\nIELTS/TOEFL tergantung program studi tujuan\nIPK min. 3.00/4.00 untuk S2\nWajib bisa berbahasa Arab untuk program studi dengan pengantar bahasa Arab\nUsia max. 20 tahun (S1)\nTidak ada syarat umur untuk S2\nLulus SMA/S1\nNilai rata-rata min. 70 sebagai syarat masuk semua fakultas di atas\nNilai rata-rata min. 75 bagi pendaftar yang memiliki ijazah SMA jurusan agama yang ingin masuk fakultas Syariah & studi Islam dan fakultas Al-Qur’an al Karim\nNilai rata-rata min. 80 bagi pendaftar yang memiliki ijazah SMA jurusan komersial atau ekonomi yang ingin masuk fakultas manajemen dan ekonomi \n\nDocuments \n\nApplication form\nCV\nKTP/Passport\nIjazah & transkrip akademik\n12 lembar pas foto ukuran 3×4 cm\nSKCK dan terjemahkan dalam bahasa Inggris/bahasa Arab\nAkta kelahiran dan terjemahkan dalam bahasa Inggris/bahasa Arab\nSurat keterangan sehat\n\n*Seluruh dokumen telah dilegalisir oleh Kementerian Pendidikan dan Kebudayaan\, Kementerian Luar Negeri Indonesia\, dan kedutaan besar UAE di Jakarta \n  \nBenefit  \n\n100% tuition fee\nAsrama universitas\nBuku pelajaran\nTunjangan hidup\nBiaya makan\nInsentif bulan dan musim panas bagi mahasiswa yang tinggal di asrama selama kelas musim panas\nTiket pesawat PP\nVISA & ID Card Emirate \nAsuransi kesehatan\n\n  \nTahapan Seleksi \n\nPendaftaran beasiswa\nSeleksi\nPengumuman\n\nBagikan Artikel :
URL:https://ieltspresso.com/event/al-qasimia-university-scholarship/
LOCATION:Uni Emirat Arab
CATEGORIES:Beasiswa S1,Beasiswa S2,Full Funded
END:VEVENT
END:VCALENDAR