BEGIN:VCALENDAR
VERSION:2.0
PRODID:-//IELTSpresso - ECPv6.11.2//NONSGML v1.0//EN
CALSCALE:GREGORIAN
METHOD:PUBLISH
X-WR-CALNAME:IELTSpresso
X-ORIGINAL-URL:https://ieltspresso.com
X-WR-CALDESC:Events for IELTSpresso
REFRESH-INTERVAL;VALUE=DURATION:PT1H
X-Robots-Tag:noindex
X-PUBLISHED-TTL:PT1H
BEGIN:VTIMEZONE
TZID:Asia/Krasnoyarsk
BEGIN:STANDARD
TZOFFSETFROM:+0700
TZOFFSETTO:+0700
TZNAME:+07
DTSTART:20260101T000000
END:STANDARD
END:VTIMEZONE
BEGIN:VEVENT
DTSTART;VALUE=DATE:20260101
DTEND;VALUE=DATE:20270101
DTSTAMP:20260424T011857
CREATED:20241129T001939Z
LAST-MODIFIED:20251120T134839Z
UID:15457-1767225600-1798761599@ieltspresso.com
SUMMARY:DAAD EPOS - Development-Related Postgraduate Courses
DESCRIPTION:Tanggal pendaftaran berbeda-beda sesuai program studi \n  \nRequirement \n\nPelamar wajib memiliki pengalaman kerja minimal 2 tahun di sektor pembangunan\nMemilih program:\n📌 Ekonomi\, administrasi bisnis\, ekonomi politik\n📌 Kerja sama pembangunan\n📌 Teknik & sains terapan\n📌 Perencanaan wilayah dan kota\n📌 Ilmu pertanian & kehutanan\n📌 Ilmu alam & lingkungan\n📌 Kesehatan masyarakat & kedokteran\n📌 Ilmu sosial\, pendidikan\, & hukum\n📌 Studi media\n\n\nDocuments \n\nCV format Europass\nSurat motivasi (maks. 1 halaman)\n Surat rekomendasi dari atasan kerja\n Bukti pengalaman kerja min. 2 tahun setelah lulus S1 (di bidang pembangunan)\nSertifikat bahasa: IELTS (skor tergantung jurusan)\, atau sertifikat bahasa Jerman kalau jurusanmu berbahasa Jerman\nIjazah & transkrip nilai\n\n  \nBenefit \n\nUang saku bulanan €992 (S2) atau €1.300 (S3)\n Asuransi kesehatan\, kecelakaan\, dan personal liability\nTiket perjalanan\nSubsidi tempat tinggal (sesuai kondisi)\nTunjangan keluarga (jika eligible)\n\n  \nTahapan Seleksi \n\nPendaftar Submit aplikasi pendaftaran langsung ke universitas & program studi\nKomite Seleksi mereview dokumen & menyerahkan rekomendasi (shortlisted) peserta ke DAAD\nShortlisted kandidat akan dihubungi oleh DAAD dan diminta untuk mengupload dokumen persyaratan ke portal DAAD\nSeleksi Tahap Akhir & Final Announcement\n\nBagikan Artikel :
URL:https://ieltspresso.com/event/daad-epos/
LOCATION:Jerman
CATEGORIES:Beasiswa S2,Beasiswa S3,Full Funded
END:VEVENT
BEGIN:VEVENT
DTSTART;VALUE=DATE:20260701
DTEND;VALUE=DATE:20270102
DTSTAMP:20260424T011857
CREATED:20251122T170118Z
LAST-MODIFIED:20251122T170118Z
UID:20537-1782864000-1798847999@ieltspresso.com
SUMMARY:University of Copenhagen – Danish Government Scholarship
DESCRIPTION:First round:  July– September 2026  \nSecond round:  November 2026– January 2027 \nRequirements \n\nIELTS/TOEFL tergantung program studi tujuan di University of Copenhagen\nIPK tergantung program studi tujuan di University of Copenhagen\nWarga negara non-EU/EEA (Indonesia termasuk)\nMendaftar dan mendapat LoA dari program S2 di University of Copenhagen\nPrioritas diberikan ke pelamar dengan pencapaian akademik yang baik (merit-based)\nBeasiswa tidak perlu daftar terpisah (kalau sudah daftar ke kampusnya\, akan langsung dipertimbangkan)\n\nDocuments \nMengikuti dokumen pendaftaran program studi di University of Copenhagen \nBenefit \n\n100% atau partial funded tuition fee\nTunjangan hidup DKK8\,000–10\,000/bulan Rp20\,8–Rp26 juta/bulan (nominal beda-beda tergantung fakultas)\n\nTahapan Seleksi \n\nPendaftaran kampus & beasiswa\nSeleksi\nPengumuman\n\n  \nBagikan Artikel :
URL:https://ieltspresso.com/event/university-of-copenhagen-danish-government-scholarship/
LOCATION:Denmark\, Denmark
CATEGORIES:Beasiswa S2,Partial Funded
END:VEVENT
BEGIN:VEVENT
DTSTART;VALUE=DATE:20260801
DTEND;VALUE=DATE:20270301
DTSTAMP:20260424T011857
CREATED:20241127T085432Z
LAST-MODIFIED:20251122T173256Z
UID:15296-1785542400-1803859199@ieltspresso.com
SUMMARY:UdeM Exemption
DESCRIPTION:August 2026–February 2027 \nRequirement \n\nMemenuhi syarat admission program studi yang dipilih di UdeM\nTelah diterima di salah satu program studi di UdeM\nEligible untuk mengajukan CAQ (Certificat d’acceptation du Québec) atau dokumen izin tinggal dan belajar di Canada\nBerkomitmen menyelesaikan program studi tepat waktu\nTidak sedang menerima beasiswa lain yang membayarkan biaya kuliah\nIELTS/TOEFL tergantung program studi tujuan\nDELF/TCF/TEF tergantung program studi tujuan\n\n Documents \n\nApplication form\nKPT/Passport\nAkta Kelahiran\nIjazah & transkrip akademik\nCV\nLoA\nSurat rekomendasi\n\nBenefit\n \n\nProgram Bachelor’s Degree: Level A CAD$7\,007 atau Rp83\,6 juta (15 Credits) & Level B CAD$3\,339 atau Rp39\,8 juta (15 Credits)\nProgram Master’s Degree: Riset CAD$5\,150$ atau Rp61\,4 juta (15 Credits) & Non Riset CAD$3\,668 atau Rp43\,7 juta (15 Credits)\nProgram Doctoral Degree: CAD$7\,789 atau Rp92\,9 juta (15 Credits)\n\n*Nilai beasiswa ditentukan dari nilai akademis yang dilihat dari transkrip nilai sewaktu mendaftar \n*Pihak beasiswa mengkategorikan nilai beasiswa berdasarkan Level A atau B. \nTahapan Seleksi \n\nPendaftaran kampus & beasiswa\nSeleksi \nPengumuman\n\n  \nBagikan Artikel :
URL:https://ieltspresso.com/event/udem-exemption/
LOCATION:Kanada
CATEGORIES:Beasiswa S1,Beasiswa S2,Beasiswa S3,Partial Funded
END:VEVENT
BEGIN:VEVENT
DTSTART;VALUE=DATE:20260801
DTEND;VALUE=DATE:20261116
DTSTAMP:20260424T011857
CREATED:20241129T014936Z
LAST-MODIFIED:20251122T173652Z
UID:15503-1785542400-1794787199@ieltspresso.com
SUMMARY:American Association of University Women (AAUW) Fellowship
DESCRIPTION:August-November 2026 \nRequirement \n\nIELTS min. 6.5/TOEFL iBT 79\nMerupakan wanita atau teridentifikasi sebagai wanita\nBukan merupakan warga negara Amerika Serikat\nBerkomitmen kembali ke negara asal setelah menyelesaikan studi di Amerika Serikat\nTelah menyelesaikan studi jenjang sebelumnya\nBersedia menempuh program dengan skema full-time selama masa studi\n\nDocuments \n\nApplication form\nSurat rekomendasi\nIjazah & transkrip akademik\nBukti pendaftaran kampus\n\nBenefit \n\n100% tuition fee\nTunjangan $20\,000 atau Rp334\,3 juta (S2)\nTunjangan $20\,000 atau Rp417\,9 juta (S3)\nTunjangan hidup\nTunjangan anak\nBiaya perjalanan (professional meetings\, conference\, seminars max. 10% jumlahnya dari total fellowship)\n\nTahapan Seleksi \n\nPendaftaran beasiswa\nSeleksi \nPengumuman\n\nBagikan Artikel :
URL:https://ieltspresso.com/event/american-association-of-university-women-fellowship/
LOCATION:Amerika Serikat
CATEGORIES:Beasiswa S2,Beasiswa S3,Partial Funded
END:VEVENT
BEGIN:VEVENT
DTSTART;VALUE=DATE:20260801
DTEND;VALUE=DATE:20270301
DTSTAMP:20260424T011857
CREATED:20241129T080122Z
LAST-MODIFIED:20251122T175510Z
UID:15609-1785542400-1803859199@ieltspresso.com
SUMMARY:National Tsing Hua University International Student Scholarship
DESCRIPTION:Spring Intake: Agustus–September 2026 \nFall Intake: November 2026–Februari 2027 \nRequirement \n\nIELTS min. 5.5/TOCFL Level A2 \nIPK tergantung program studi tujuan\nPelamar harus memiliki pencapaian akademik dan riset yang baik \nBeasiswa diperbarui setiap tahun berdasarkan based on merit.\nHarus memenuhi syarat admission program studi tujuan\n\nDocuments \n\nApplication form\nPas foto\nCV\nIjazah & transkrip akademik (dalam bahasa China)\nStudy Plan\nSurat rekomendasi\nStudent academic performance evaluation form (hanya PhD student)\n\nBenefit  \n\nTipe A\n\nProgram Bachelor’s Degree & Master’s Degree students: NTD5\,000/bulan atau Rp2\,6 juta/bulan\nDoctoral Degree students: NTD10\,000–40\,000/bulan atau Rp5\,3– Rp21\,4 juta/bulan (available to new students who apply for admission in Spring 2026 or after)\n\nTipe B \n\n100% tuition fee\nCredit fee waived\n\n\n\nTahapan Seleksi \n\nPendaftaran beasiswa & kampus\nSeleksi\nPengumuman\n\nBagikan Artikel :
URL:https://ieltspresso.com/event/national-tsing-hua-university-international-student-scholarship/
LOCATION:Taiwan\, Taiwan
CATEGORIES:Beasiswa S1,Beasiswa S2,Beasiswa S3,Partial Funded
END:VEVENT
BEGIN:VEVENT
DTSTART;VALUE=DATE:20260908
DTEND;VALUE=DATE:20261111
DTSTAMP:20260424T011857
CREATED:20251123T153713Z
LAST-MODIFIED:20251123T153915Z
UID:20605-1788825600-1794355199@ieltspresso.com
SUMMARY:Russia Government Open Doors Scholarship
DESCRIPTION:Open from September until November (Annual) \nRequirements \n\nIELTS/TOEFL tergantung program studi tujuan\nUsia rentang 16–23 tahun (S1)\nUsia rentang 20–33 tahun (S2)\nUsia rentang 22–35 tahun (S3)\nTerbuka untuk pendaftar pada program studi:\n\nBiology & Biotechnology\nComputer & Data Science\nMathematics & Artificial Intelligence\nBusiness & Management\nPolitics & International Relations\nPhysical Sciences & Technology\nLinguistics & Modern Languages\nChemistry & Materials Science\nEconomics & Econometrics\nEngineering & Technology\nClinical Medicine & Public Health\nEarth Sciences for Sustainability\nEducation & Psychology\nUrbanism and Civil Engineering\n\n\n\nDocuments \n\nApplication form\nPortofolio riset\, prestasi\, dll\nIjazah & transkrip akademik\nDokumen lainnya tergantung program studi tujuan\n\nBenefits \n\n100% tuition fee\nTunjangan hidup \nBiaya pendaftaran kampus\nEmployment offer\nTraining bahasa Rusia\n\nTahapan Seleksi \n\nPendaftaran kampus & beasiswa\nSeleksi administrasi\nSeleksi wawancara \nPengumuman\n\nBagikan Artikel :
URL:https://ieltspresso.com/event/russia-government-open-doors-scholarship/
LOCATION:Rusia
CATEGORIES:Beasiswa S1,Beasiswa S2,Beasiswa S3,Full Funded
END:VEVENT
BEGIN:VEVENT
DTSTART;VALUE=DATE:20260908
DTEND;VALUE=DATE:20261216
DTSTAMP:20260424T011857
CREATED:20241129T075742Z
LAST-MODIFIED:20251121T053909Z
UID:15605-1788825600-1797379199@ieltspresso.com
SUMMARY:P.E.O. International Peace Scholarship
DESCRIPTION:Open from September until December (Annual) \nRequirements \n\nIELTS min. 6.5\nIPK tergantung program studi tujuan Sudah diterima di universitas tujuan\nDibuka untuk perempuan yang ingin melanjutkan studi S2/S3 di colleges atau universitas terakreditasi di Amerika Serikat/Canada yang bersedia kembali ke negara asal ATAU mahasiswa internasional di Cottey College\nMemenuhi seluruh persyaratan admission universitas dan program studi tujuan\nSudah diterima di universitas tujuan\n\nDocuments \n\nLoA\nIjazah & transkrip akademik\nSurat rekomendasi\nTravel form jaminan bahwa pelamar memiliki biaya round-trip or return travel (tidak diwajibkan untuk mahasiswa Cottey College)\nMenandatangani dokumen perjanjian untuk kembali ke negara asal setelah lulus (tidak diwajibkan untuk mahasiswa Cottey College)\n\nBenefits \n\nTunjangan hidup $12\,500 atau Rp209 juta (dapat dikurangi berdasarkan estimasi budget pengeluaran pelamar dan anticipated additional financial resources)\nPendanaan diberikan untuk 1 tahun masa studi dari Agustus-Juni atau Agustus-Agustus\n\nTahapan Seleksi \n\nPendaftaran kampus & beasiswa\nSeleksi \nPengumuman\n\nBagikan Artikel :
URL:https://ieltspresso.com/event/p-e-o-international-peace-scholarship/
LOCATION:Amerika Serikat & Kanada
CATEGORIES:Beasiswa S2,Beasiswa S3,Partial Funded
END:VEVENT
BEGIN:VEVENT
DTSTART;VALUE=DATE:20261001
DTEND;VALUE=DATE:20261201
DTSTAMP:20260424T011857
CREATED:20251123T162908Z
LAST-MODIFIED:20260113T120426Z
UID:20623-1790812800-1796083199@ieltspresso.com
SUMMARY:Arryman Scholarship - SOAS University of London
DESCRIPTION:Open from October until January (Annual) \nRequirements \n\nIELTS min. 5.0 (all sub-score 5.0)/TOEFL iBT min. 87\nIPK min. 3\,00/4\,00\nUsia max. 35 tahun\nLulus S1/sederajat\nBerkomitmen kembali ke Indonesia sebagai full-time scholar setelah menyelesaikan S3\nMengisi formulir aplikasi termasuk publikasi essay akademik/profesional\nMemiliki ketertarikan dan menekuni bidang keilmuan berikut: \n\nEconomics \nDevelopment Economics\nInternational Development Studies\n\n\n\nDocuments \n\nApplication form\nCV\nKTP/Passport\nIjazah & transkrip akademik\nEssay 1: Statement of Purpose\nEssay 2: Research Proposal\nEssay 3: Intellectual Influences\nEssay Writing Sample\nSurat rekomendasi\n\nBenefits \n\n100% tuition fee (MSc–PhD fast-track)\nTunjangan tempat tinggal\nTunjangan hidup\nTiket pesawat PP\nAsuransi kesehatan\nKesempatan Postdoc di Institutes for Advanced Research (ISRSF Consortium)\n\nTahapan Seleksi \n\nPendaftaran kampus & beasiswa\nSeleksi administrasi\nSeleksi wawancara\nPengumuman\n\nBagikan Artikel :
URL:https://ieltspresso.com/event/arryman-scholarship/
LOCATION:United Kingdom
CATEGORIES:Beasiswa S2,Beasiswa S3,Full Funded
END:VEVENT
BEGIN:VEVENT
DTSTART;VALUE=DATE:20261001
DTEND;VALUE=DATE:20270201
DTSTAMP:20260424T011857
CREATED:20241127T063258Z
LAST-MODIFIED:20251124T025339Z
UID:15132-1790812800-1801439999@ieltspresso.com
SUMMARY:UNSW Scholarships for International Students
DESCRIPTION:Term 1: October or Term 2: January \nRequirements \n\nIELTS/TOEFL tergantung program studi tujuan di UNSW\nIPK tergantung program studi tujuan di UNSW\nHarus merupakan mahasiswa internasional\nTelah menerima tawaran penerimaan untuk program yang memenuhi syarat\nPilihan beasiswa:\n\nBeasiswa International Scientia Coursework\nPenghargaan Internasional Hukum & Keadilan UNSW\nPenghargaan Pathways Internasional Sekolah Bisnis UNSW\nBeasiswa Internasional Sekolah Bisnis UNSW\nPenghargaan Universitas Global Australia\nPenghargaan Akademik Perguruan Tinggi UNSW\nBeasiswa Internasional Magister Hukum UNSW\n\n\n\nDocuments \n\nMengikuti dokumen pendaftaran program studi di UNSW\n\nBenefits \n\nPendanaan AUD$5\,000–AUD $20\,000/tahun atau Rp54\,5 juta–Rp218 juta\n\nTahapan Seleksi \n\nSeleksi Administrasi\nWawancara\nPengumuman Kelulusan\n\nBagikan Artikel :
URL:https://ieltspresso.com/event/unsw-international-scientia-coursework-scholarship-term-2/
LOCATION:Australia
CATEGORIES:Beasiswa S1,Beasiswa S2,Beasiswa S3,Partial Funded
END:VEVENT
BEGIN:VEVENT
DTSTART;VALUE=DATE:20261007
DTEND;VALUE=DATE:20261118
DTSTAMP:20260424T011857
CREATED:20251124T015052Z
LAST-MODIFIED:20251124T020158Z
UID:20692-1791331200-1794959999@ieltspresso.com
SUMMARY:Project Scholarship - Adelaide University
DESCRIPTION:Open from 7 October until 17 November (Annual) \nRequirements \n\nMemenuhi syarat standar admission Adelaide University terutama dari program studi/project yang dituju (seperti IELTS/TOEFL\, IPK\, dll)\nTertarik melakukan research project yang selaras dengan salah satu Signature Research Themes:\n\nCreative & Cultural\nFood\, Agriculture & Wine\nPersonal & Societal Health\nSustainable Green Transition\n\n\n\nDocuments \n\nApplication form\nCV\nProposal penelitian\nIjazah & transkrip akademik\nInformasi lainnya yang memperlihatkan pengalaman riset kamu seperti Google Scholar ID dan/atau ORCiD ID\, academic research dissertation\, dll\n\nBenefits \n\n100% tuition fee\nTunjangan hidup\nTiket pesawat PP\nIndustry experience\n\nTahapan Seleksi \n\nPendaftaran kampus & beasiswa\nSeleksi administrasi\nSeleksi wawancara dengan supervisor project Adelaide University\nPengumuman\n\nBagikan Artikel :
URL:https://ieltspresso.com/event/project-scholarship-adelaide-university/
LOCATION:Australia
CATEGORIES:Beasiswa S2,Beasiswa S3,Full Funded
END:VEVENT
BEGIN:VEVENT
DTSTART;VALUE=DATE:20261013
DTEND;VALUE=DATE:20261118
DTSTAMP:20260424T011857
CREATED:20241129T022851Z
LAST-MODIFIED:20251121T061233Z
UID:15519-1791849600-1794959999@ieltspresso.com
SUMMARY:ADB-Japan Scholarship
DESCRIPTION:Open from October until November (Annual) \nRequirements \n\nBerasal dari negara partner ADB (Indonesia termasuk)\nTidak berkewarganegaraan ganda\nTelah diterima di salah satu universitas tujuan\nLulus S1 dan memiliki academic record yang outstanding\nUsia max. 35 tahun\nIELTS/TOEFL tergantung program studi tujuan\nIPK tergantung program studi tujuan\nMemiliki pengalaman min. 2 tahun kerja\nSehat jasmani dan rohani\nBerkomitmen untuk kembali ke negara asal min. 2 tahun setelah lulus\nTidak sedang menempuh (on-going) studi S2\n\nDocuments \n\nApplication form\nKTP/Passport\nCV\nIjazah & transkrip akademik\nSurat rekomendasi\nCertificate of Employment (termasuk monthly income)\n\nBenefits \n\n100% tuition fee\nTunjangan hidup\nTunjangan tempat tinggal\nBiaya buku \nAsuransi kesehatan\nBiaya perjalanan\n\nTahapan Seleksi \n\nPendaftaran kampus & beasiswa\nSeleksi\nPengumuman\n\nBagikan Artikel :
URL:https://ieltspresso.com/event/adb-japan-scholarship/
LOCATION:Jepang dan Asia Pasifik
CATEGORIES:Beasiswa S2,Full Funded
END:VEVENT
BEGIN:VEVENT
DTSTART;VALUE=DATE:20261013
DTEND;VALUE=DATE:20261228
DTSTAMP:20260424T011857
CREATED:20251123T163234Z
LAST-MODIFIED:20251123T163518Z
UID:20624-1791849600-1798415999@ieltspresso.com
SUMMARY:Erasmus Mundus Scholarship in Public Policy (MUNDUS MAPP)
DESCRIPTION:Open from October until December (Annual) \nRequirements \n\nIELTS min. 70\nIPK min. 3\,17/4\,00\nLulus S1 dan terbuka juga untuk yang sudah lulus S2\nHanya bisa mendaftar pada semua bidang Social Sciences (lulusan Engineering/Natural Sciences tidak eligible untuk program ini)\nPengalaman kerja relevan tidak diwajibkan\, tapi akan memberikan nilai plus\nMemiliki ketertarikan tinggi terhadap International/European Public Policy. Bisa mendaftar spesialisasi berikut:\n\nGlobal Public Policy Specialization\nEuropean Public Policy Specialization\nPolitical Economy and Development\nGovernance and Development\n\n\n\nDocuments \n\nApplication form\nKTP/Passport\nCV\nSurat rekomendasi \nIjazah & transkrip akademik yang sudah diterjemahkan\nStatement of Purpose\n\nBenefits \n\n100% tuition fee \nTunjungan hidup\nBiaya mobilisasi & relokasi\nBiaya perjalanan\nTiket pesawat PP\nAsuransi kesehatan\nVISA Student\nFasilitas VISA kerja setelah lulus (buat yang ingin lanjut kerja di Eropa)\n\nTahapan Seleksi \n\nPendaftaran beasiswa\nSeleksi administrasi\nSeleksi wawancara\nPengumuman\n\nBagikan Artikel :
URL:https://ieltspresso.com/event/erasmus-mundus-scholarship-in-public-policy-mundus-mapp/
LOCATION:Uni Eropa
CATEGORIES:Beasiswa S2,Full Funded
END:VEVENT
BEGIN:VEVENT
DTSTART;VALUE=DATE:20261101
DTEND;VALUE=DATE:20261201
DTSTAMP:20260424T011857
CREATED:20241129T031401Z
LAST-MODIFIED:20251124T014057Z
UID:15545-1793491200-1796083199@ieltspresso.com
SUMMARY:Excellence Scholarship & Opportunity Programme
DESCRIPTION:Open from 1 November until 30 November (Annual) \nRequirement \n\nTelah lulus S1 dengan hasil akademik yang outstanding (top 10% bachelor degree programme: Grade A)\nTidak sedang menjalani program master di ETH Zurich (on-going)\n\nDocuments \n\nApplication form\nKTP/Passport\nCV\nIjazah & transkrip akademik\nPre-proposal thesis\nSurat rekomendasi\n\nBenefit \n\n100% tuition fee\nLiving Expenses CHF 12\,000/semester atau Rp248 juta/semester\nBiaya kuliah lainnya\n\nTahapan Seleksi \n\nPendaftaran beasiswa\nSeleksi \nPengumuman\n\nBagikan Artikel :
URL:https://ieltspresso.com/event/excellence-scholarship-opportunity-programme/
LOCATION:Switzerland
CATEGORIES:Beasiswa S2,Partial Funded
END:VEVENT
BEGIN:VEVENT
DTSTART;VALUE=DATE:20261110
DTEND;VALUE=DATE:20261216
DTSTAMP:20260424T011857
CREATED:20241129T024008Z
LAST-MODIFIED:20251123T171240Z
UID:15525-1794268800-1797379199@ieltspresso.com
SUMMARY:VLIR UOS Scholarship
DESCRIPTION:Open from November until December (Annual) \nRequirements \n\nApplicants berasal dari negara yang menjadi partner VLIR UOS (Indonesia termasuk)\nIELTS min. 6.5\nUsia max. 35 tahun untuk program Master’s Degree Regular\nUsia max. 40 tahun untuk program Advanced Master\nVLIR UOS memprioritaskan applicants yang bekerja di academic institutions\, research institutions\, governments\, atau NGO\n\nDocuments \n\nApplication form\nKTP/Passport\nIjazah & transkrip akademik\nCV\nMotivation Letter\nSurat rekomendasi\n\nBenefits \n\n100% tuition fee\nBiaya perjalanan\nTunjangan hidup\nAsuransi kesehatan\n\nTahapan Seleksi \n\nPendaftaran beasiswa\nSeleksi \nPengumuman\n\nBagikan Artikel :
URL:https://ieltspresso.com/event/vlir-uos-scholarship/
LOCATION:Belgium\, Belgium
CATEGORIES:Beasiswa S2,Full Funded
END:VEVENT
BEGIN:VEVENT
DTSTART;VALUE=DATE:20261115
DTEND;VALUE=DATE:20261116
DTSTAMP:20260424T011857
CREATED:20241128T132935Z
LAST-MODIFIED:20251120T135311Z
UID:15437-1794700800-1794787199@ieltspresso.com
SUMMARY:Mohamed Bin Zayed University of Artificial Intelligence (MBZUAI) Scholarship
DESCRIPTION:Open in: Deadline Prioritas (15 November 2025) & Deadline Final (15 Desember 2025) \n  \nRequirement \n\nPendaftar wajib lulusan jurusan STEM dengan IPK min. 3.0/4.0\nBerasal dari universitas yang terakreditasi atau diakui oleh Kementerian Pendidikan UEA\n\n  \nDocuments \n\nIELTS sesuai jurusan \nOnline form (di web MBZUAI) \nCV \nIjazah dan transkrip akademik \nSurat rekomendasi \nResearch statement (untuk S3) \nEssay (statement of purpose) \nCoppy passport \nPhoto with background putih\n\n  \nBenefit  \n\nUKT gratis 100% tuition \nTunjangan bulanan \n VISA sponsorship \nAsuransi kesehatan \n\n  \nTahapan Seleksi \n\nDeadline Prioritas – 15 November 2025\nDeadline Final – 15 Desember 2025\nUjian Seleksi Online – TBA\nTechnical Interview – TBA\nPengumuman – 15 Maret 2026\n\nBagikan Artikel :
URL:https://ieltspresso.com/event/mohamed-bin-zayed-university-of-artificial-intelligence-mbzuai/
LOCATION:Uni Emirat Arab
CATEGORIES:Beasiswa S2,Beasiswa S3,Partial Funded
END:VEVENT
END:VCALENDAR