BEGIN:VCALENDAR
VERSION:2.0
PRODID:-//IELTSpresso - ECPv6.11.2//NONSGML v1.0//EN
CALSCALE:GREGORIAN
METHOD:PUBLISH
X-ORIGINAL-URL:https://ieltspresso.com
X-WR-CALDESC:Events for IELTSpresso
REFRESH-INTERVAL;VALUE=DURATION:PT1H
X-Robots-Tag:noindex
X-PUBLISHED-TTL:PT1H
BEGIN:VTIMEZONE
TZID:Asia/Krasnoyarsk
BEGIN:STANDARD
TZOFFSETFROM:+0700
TZOFFSETTO:+0700
TZNAME:+07
DTSTART:20250101T000000
END:STANDARD
END:VTIMEZONE
BEGIN:VEVENT
DTSTART;VALUE=DATE:20260116
DTEND;VALUE=DATE:20260203
DTSTAMP:20260423T195347
CREATED:20241127T063325Z
LAST-MODIFIED:20251124T035148Z
UID:15127-1768521600-1770076799@ieltspresso.com
SUMMARY:Uppsala University Global Scholarship
DESCRIPTION:Open from 16 January until 2 February (Annual) \nRequirements \n\nHarus warga negara di luar Uni Eropa/EEA dan Swiss\nHarus menunjukkan bakat akademis dan menunjukkan minat untuk berada di lingkungan pendidikan\nHanya dapat menerima Beasiswa Global Universitas Uppsala untuk program Master’s Degree di Universitas Uppsala yang dipilih sebagai prioritas pertama (program yang dipilih dengan peringkat tertinggi dari empat program yang tersedia di penerimaan Universitas)\nHarus telah mendaftar untuk program Master’s Degree sebelum batas waktu penerimaan universitas\nHarus memenuhi persyaratan masuk untuk program Master’s Degree yang dilamar (biaya pendaftaran dan dokumen pendukung lengkap harus diterima oleh Penerimaan Universitas sebelum batas waktu)\n\nDocuments \n\nMengikuti dokumen pendaftaran program studi di Uppsala University\n\nBenefits \n\n100% tuition fee\n\nTahapan Seleksi \n\nMendaftar program Master’s Degree  melalui admission Uppsala University \nSeleksi beasiswa akan dilakukan berdasarkan dokumen pendaftaran ke Uppsala University\n\nBagikan Artikel :
URL:https://ieltspresso.com/event/uppsala-university-global-scholarship/
LOCATION:Swedia
CATEGORIES:Beasiswa S2,Partial Funded
END:VEVENT
BEGIN:VEVENT
DTSTART;VALUE=DATE:20260101
DTEND;VALUE=DATE:20260401
DTSTAMP:20260423T195347
CREATED:20251120T132933Z
LAST-MODIFIED:20251120T132933Z
UID:20344-1767225600-1775001599@ieltspresso.com
SUMMARY:Ajinomoto Scholarship
DESCRIPTION:Open in:  Januari–Maret 2026 \n  \nRequirement \n\nPendaftar memiliki background pendidikan di bidang nutrition\, science\, food science\, agriculture\, engineering dan tertarik untuk melanjutkan studi di universitas di bawah ini:\n\nThe University of Tokyo\nKyoto University\nNagoya University\nInstitute of Science Tokyo\nOchanomizu University\nWaseda University\nKagawa Nutrition University\n\n\nIPK min.  3\,50\nMaksimal usia pendaftar 35 tahun\nMendapat rekomendasi dari rektor/dosen pembimbing\n\nDocuments \n\nOnline form\nDokumen admission sesuai syarat program dan universitas tujuan\nIjazah & Transkrip\nSurat Rekomendasi\nDokumen Pendukung: Surat Pernyataan Kebenaran\, Surat Sehat\nIELTS/JLPT (sertifikat bahasa Jepang)\n\nBenefit  \n\n100% tuition fee\nBiaya ujian\nBiaya masuk universitas\nTiket pesawat PP\nTunjangan hidup ¥180\,000/bulan atau Rp19\,4  juta/bulan (max. 2 tahun) & ¥ 150\,000/bulan atau Rp16\,2 juta/bulan untuk Research Student\n\nTahapan Seleksi \n\nPendaftaran beasiswa\nSeleksi administrasi\nTes Psikologi\nSeleksi wawancara\nPengumuman\n\nBagikan Artikel :
URL:https://ieltspresso.com/event/ajinomoto-scholarship/
LOCATION:Jepang
CATEGORIES:Beasiswa S2,Full Funded
END:VEVENT
BEGIN:VEVENT
DTSTART;VALUE=DATE:20260101
DTEND;VALUE=DATE:20260301
DTSTAMP:20260423T195347
CREATED:20241129T000507Z
LAST-MODIFIED:20251120T134453Z
UID:15453-1767225600-1772323199@ieltspresso.com
SUMMARY:Turkiye Burslari Scholarship
DESCRIPTION:Open January-February  \nRequirement \n\nWNI\nMaksimal usia pendaftar: S1 (21 tahun)\, S2 (30 tahun)\, S3 (35 tahun)\, Research (45 tahun)\nNilai minimum ijazah pendidikan sebelumnya: S1 (70/100)\, S2/S3 (75/100)\, pelamar Jurusan IImu Kesehatan (90/100)\n\nDocuments \n\nKartu identitas resmi seperti KTP/Paspor\nHasil ujian nasional (opsional)\nPas foto terbaru \nljazah atau Surat Keterangan Lulus (SKL)\nTranskrip nilai\nSertifikat penghargaan\nHasil ujian internasional seperti GRE\, GMAT\, SAT\, dan lainnya (menyesuaikan permintaan universitas)\nProposal topik penelitian (hanya untuk PhD)\nHasil ujian bahasa internasional seperti lELTS (jika diperlukan oleh universitas atau program yang dipilih)\n\n  \nBenefit \n\nBiaya kuliah penuh\nAkomodasi\nTiket Pesawat PP\nAsuransi Kesehatan\nPenempatan jurusan dan universitas Kursus bahasa Turki selama 1 tahun\nUang saku per bulan\n\nTahapan Seleksi \n\nPendaftaran: Januari – Februari\nProses evaluasi: Maret – Mei\nSeleksi wawancara: Juni – Juli\nPengumuman hasil: Agustus\nTransfers of Grantees to Turkiye: September\n\nBagikan Artikel :
URL:https://ieltspresso.com/event/turkiye-burslari-scholarship/
LOCATION:Turki
CATEGORIES:Beasiswa S1,Beasiswa S2,Beasiswa S3,Full Funded
END:VEVENT
BEGIN:VEVENT
DTSTART;VALUE=DATE:20260101
DTEND;VALUE=DATE:20260301
DTSTAMP:20260423T195347
CREATED:20241129T000214Z
LAST-MODIFIED:20251120T134331Z
UID:15451-1767225600-1772323199@ieltspresso.com
SUMMARY:LPDP Tahap I
DESCRIPTION:Open Januari-Februari 2026 \nRequirements (untuk jalur Reguler) \n\nS2/S3 Dalam Negeri -> IELTS 6\,0.\nS2 Luar Negeri -> IELTS 6\,5.\nS3 Luar Negeri -> IELTS 7.0.\n\n\nUsia max 35 tahun (Pendaftar jenjang S2) dan max 40 tahun (jenjang S3)\nBagi dosen yang telah memiliki NIDN batas usia 42 tahun (Magister) & 47 Tahun (Doktoral)\nIPK minimal 3\,00/4\,00 (Magister) & 3\,25/4\,00 (Doktoral)\n\n  \nDocuments \n\nBiodata Diri (Online form)\nKartu Tanda Penduduk\nScan Ijazah S1/S2 atau Surat Keterangan Lulus\nSurat Pemberhentian Sebagai Mahasiswa (bagi yang tidak menyelesaikan studi)\nScan Transkrip Nilai S1/S2\nDokumen Penyetaraan Ijazah (bila lulusan luar negeri)\nDokumen Konversi IPK (bila lulusan luar negeri)\nSertifikat Bahasa Asing yang Disyaratkan\nLetter of Acceptance Unconditional (bila ada)\nSurat Rekomendasi dari Tokoh masyarakat/akademisi\nSurat Usulan dari Pejabat yang Membidangi SDM bagi pendaftar PNS/TNI/POLRI\nProfil diri (online form)\nEssay Komitmen Kembali ke Indonesia\, Rencana Kontribusi\, dan Rencana Studi\nProposal Penelitian (khusus S3)\nPublikasi ilmiah/Prestasi Kejuaraan/Pengalaman Organisasi\n\nBenefit \n\nDana Pendidikan berupa 100% tuition fees\nBiaya Hidup Bulanan\nBiaya Kedatangan\nTunjangan Buku\nTunjangan Riset\nBiaya Pesawat PP\nDana Asuransi Kesehatan\nTunjangan Keluarga (khusus S3)\n\nTahapan Seleksi \n\nSeleksi Administrasi\nSeleksi Bakat Skolastik (Bila mendaftar dengan jalur non-LoA)\nSeleksi Substansi (wawancara)\n\nBagikan Artikel :
URL:https://ieltspresso.com/event/lpdp-tahap-i/
LOCATION:Berbagai Negara
CATEGORIES:Beasiswa S2,Beasiswa S3,Full Funded
END:VEVENT
BEGIN:VEVENT
DTSTART;VALUE=DATE:20260101
DTEND;VALUE=DATE:20260202
DTSTAMP:20260423T195347
CREATED:20241128T132055Z
LAST-MODIFIED:20251120T133119Z
UID:15434-1767225600-1769990399@ieltspresso.com
SUMMARY:Invest Your Talent in Italy
DESCRIPTION:Open in: Januari – Februari \n  \nRequirement \n\nSudah menamatkan S1 atau equivalent\nBukan lulusan universitas di Italia \nSaat mendaftar beasiswa\, kandidat harus sudah mendaftar ke website universitas pilihan \nKandidat berhak menerima beasiswa IYT hanya jika diterima di jurusan yang dilamar \nPelamar harus lahir pada 1 Januari 1998 atau setelahnya \nHarus memiliki sertifikat bahasa Inggris minimal tingkat B2 CEFR atau sertifikat dari universitas jika pelamar kuliah di English-taught Bachelor’s Degree \nBukti kemahiran berbahasa Italia tidak wajib\, tetapi akan dipertimbangkan dalam proses seleksi.\n\n  \nDocuments \n\nTranskrip akademik seluruh ujian dan nilai akhir di jenjang S1\nSertifikat bahasa Inggris (misalnya IELTS atau TOEFL) untuk pelamar yang tidak berkuliah di English-taught Bachelor’s Degree \nSertifikat bahasa Italia (opsional) \nVideo di mana kandidat menjelaskan motivasi mereka (tidak lebih dari 1 menit)\nCV/resume\nPaspor \nSemua dokumen harus diterjemahkan secara resmi ke dalam bahasa Inggris\, Prancis\, atau Spanyol. Baik dokumen asli dan terjemahan harus disertakan.\n\nBenefit  \n\nBebas tuition fee (penuh atau sebagian)\nTunjangan bulanan  1.000\,00 Euros \nKursus Bahasa Italia\nPraktik kerja di perusahaan Italia\nBeasiswa ini tidak mendanai tiket perjalanan dan akomodasi\n\n  \nTahapan Seleksi \n\nSubmit dokumen sebelum ~ Februari\nDokumen akan diseleksi oleh Technical Committee IYT\nIYT Technical Committee akan mengirim email untuk kandidat yang terpilih\n\nBagikan Artikel :
URL:https://ieltspresso.com/event/invest-your-talent-in-italy/
LOCATION:Italia
CATEGORIES:Beasiswa S2,Full Funded
END:VEVENT
BEGIN:VEVENT
DTSTART;VALUE=DATE:20251215
DTEND;VALUE=DATE:20260220
DTSTAMP:20260423T195347
CREATED:20241129T034946Z
LAST-MODIFIED:20251124T021115Z
UID:15578-1765756800-1771545599@ieltspresso.com
SUMMARY:Stipendium Hungaricum Scholarship
DESCRIPTION:Open from December until 15 January (Annual) \nRequirements \n\nUsia min. 18 tahun\nBerasal dari negara yang eligible/partner Stipendium Hungaricum (Indonesia termasuk)\nIELTS min. 5.5/TOEFL iBT min. 87 (tidak wajib ketika mendaftar beasiswa\, tapi wajib untuk pendaftaran di universitas) \n\nDocuments \n\nApplication form\nKTP/Passport\nLoA\nMotivation Letter\nIjazah & transkrip akademik\nResearch plan\nSurat sehat\nPortofolio (khusus bidang seni)\n\nBenefits \n\n100% tuition fee\nTunjangan hidup HUF 43\,700/bulan atau Rp2\,2 juta/bulan (S1 & S2)\nTunjangan hidup HUF 140\,000–180\,000/bulan atau Rp7 juta–Rp9 ju(S3)\nAccomodation HUF 40\,000/bulan atau Rp2 juta/bulan\nAsuransi kesehatan HUF 65\,000 atau Rp3\,2 juta\n\nTahapan Seleksi \n\nPendaftaran kampus & beasiswa\nSeleksi\nPengumuman\n\nBagikan Artikel :
URL:https://ieltspresso.com/event/stipendium-hungaricum-scholarship/
LOCATION:Hungaria\, Hungary
CATEGORIES:Beasiswa S1,Beasiswa S2,Beasiswa S3,Full Funded
END:VEVENT
BEGIN:VEVENT
DTSTART;VALUE=DATE:20251202
DTEND;VALUE=DATE:20260201
DTSTAMP:20260423T195347
CREATED:20241128T134230Z
LAST-MODIFIED:20251120T135528Z
UID:15440-1764633600-1769903999@ieltspresso.com
SUMMARY:Weidenfeld-Hoffmann Scholarships and Leadership Programme - Oxford University
DESCRIPTION:Open in December or January \nRequirement \n\nYou must be applying to start a new full-time graduate course at Oxford.\nYou should be intending to return to your country of ordinary residence once your course is completed. \nYou must be able to demonstrate a connection between your subject of study and your longer-term career objectives\, explaining how you see your professional work contributing to the improvement of public life in your country of origin or at a wider regional or international level. \nThis scholarship is not open to applications from candidates who hold deferred offers to start in 2026-27.\nStudents currently at Oxford are not eligible to apply unless they are already Weidenfeld-Hoffmann scholars.\n\n  \nDocuments \n\nSesuai jurusan eligible di Oxford  \n\n  \nBenefit  \n\nBebas biaya kuliah 100% dan tunjangan hidup (sedikitnya £18\,622) untuk 1 tahun \nKesempatan mengikuti kegiatan Leadership Programme.\n\n  \nTahapan Seleksi \n\nDeadline pendaftaran kampus: December or January\nInterview: April 2026 \nPengumuman \n\nBagikan Artikel :
URL:https://ieltspresso.com/event/weidenfeld-hoffmann-scholarships-and-leadership-programme-oxford-university/
LOCATION:Inggris
CATEGORIES:Beasiswa S2,Partial Funded
END:VEVENT
BEGIN:VEVENT
DTSTART;VALUE=DATE:20251201
DTEND;VALUE=DATE:20260316
DTSTAMP:20260423T195347
CREATED:20241129T035749Z
LAST-MODIFIED:20251124T021954Z
UID:15581-1764547200-1773619199@ieltspresso.com
SUMMARY:Taiwan ICDF Scholarship
DESCRIPTION:Open from 1 December until 15 March (Annual) \nRequirements \n\nWarga negara salah satu partner country Taiwan ICDF Scholarship (Indonesia termasuk)\nMemenuhi persyaratan admission kampus dan program studi tujuan\nDapat memenuhi syarat regulasi VISA Resident\nBerkomitmen untuk tidak double funding dengan beasiswa pemerintah Taiwan lainnya\nTidak pernah memiliki pengalaman beasiswa dicabut dari pemerintah Taiwan sebelumnya\nIELTS/TOEFL tergantung program studi tujuan\nAcademic Standardized Test tergantung program studi tujuan \n\nDocuments \n\nApplication form\nKTP/Passport\nIjazah & transkrip akademik\nSurat rekomendasi\n\nBenefits \n\n100% tuition fee\nCredit fee\nTunjangan tempat tinggal\nTiket pesawat PP\nAsuransi kesehatan\nBiaya buku\nVISA\nTunjangan hidup NT$ 18\,000/bulan atau Rp9\,6 juta/bulan (S2)\nTunjangan hidup NT$ 20\,000/bulan atau Rp10\,7/bulan (S2)\n\nTahapan Seleksi \n\nPendaftaran beasiswa\nPeninjauan oleh Kedutaan & dikirim ke Universitas mitra\nPeninjauan rekrutmen bersama \nPengumuman \n\nBagikan Artikel :
URL:https://ieltspresso.com/event/taiwan-icdf-scholarship/
LOCATION:Taiwan\, Taiwan
CATEGORIES:Beasiswa S1,Beasiswa S2,Beasiswa S3,Full Funded
END:VEVENT
BEGIN:VEVENT
DTSTART;VALUE=DATE:20251117
DTEND;VALUE=DATE:20260217
DTSTAMP:20260423T195347
CREATED:20251124T012336Z
LAST-MODIFIED:20251124T012945Z
UID:20664-1763337600-1771286399@ieltspresso.com
SUMMARY:China AUN Scholarship
DESCRIPTION:Open from November until 16 February (Annual) \nRequirements \n\nMerupakan warga negara anggota ASEAN (Brunei\, Kamboja\, Indonesia\, Laos\, Malaysia\, Myanmar\, Filipina\, Singapura\, Thailand\, Timor-Leste\, dan Vietnam) dan sehat jasmani dan rohani\nUsia max. di bawah usia 35 tahun saat mendaftar program Master’s Degree\nUsia max. di bawah 40 tahun saat mendaftar program Doctoral Degree\nHSK Level 4 saat mendaftar program berbahasa Mandarin\nIELTS/TOEFL saat mendaftar program berbahasa Inggris\nMemenuhi syarat admission pada kampus & program studi tujuan di China\n\nDocuments \n\nApplication form\nIjazah & transkrip akademik\nDokumen lainnya tergantung kampus & program studi tujuan di China\n\nBenefits \n\n100% tuition fee\nFree university dormitory\nAccomocation\nTunjangan hidup CNY3\,000/bulan atau Rp7 juta/rupiah (Master’s Degree)\nTunjangan hidup CNY3\,500/bulan atau Rp8\,2 juta/bulan (Doctoral Degree)\nAsuransi kesehatan CNY800/tahun atau Rp1\,8 juta/tahun\n\nTahapan Seleksi \n\nSubmit aplikasi pendaftaran untuk program PhD di Bond University\nSubmit dokumen beasiswa\nSeleksi wawancara\nPengumuman\n\nBagikan Artikel :
URL:https://ieltspresso.com/event/china-aun-scholarship/
LOCATION:China\, China
CATEGORIES:Beasiswa S2,Beasiswa S3,Full Funded
END:VEVENT
BEGIN:VEVENT
DTSTART;VALUE=DATE:20251102
DTEND;VALUE=DATE:20260203
DTSTAMP:20260423T195347
CREATED:20241129T024929Z
LAST-MODIFIED:20251124T013330Z
UID:15539-1762041600-1770076799@ieltspresso.com
SUMMARY:University of Padua International Excellence Scholarship
DESCRIPTION:Open from 2 November until 2 February (Annual) \nRequirements \n\nBukan warga negara Italia\nBerkomitmen tinggi untuk berkuliah di salah satu program di University of Padua pada jenjang S1/S2\nBukan lulusan S1 universitas di Italia (bagi pendaftar S2) \nBukan lulusan sekolah menengah di Italia (bagi pendaftar S1)\nTidak sedang tinggal/menetap di Italia\nMendaftar max. 3 pilihan program studi di University of Padua\nTidak boleh double funding selama periode pembiayaan\nIELTS min. 6.0\n\nDocuments \n\nMengikuti dokumen pendaftaran program studi di University of Padua\nKTP/Passport\nCV\nIjazah & transkrip akademik\nMotivation Letter\n\nBenefits \n\n100% tuition fee\nTotal €8\,000 atau Rp154 juta (gross amount) beasiswa per tahun akademik\n\nTahapan Seleksi \n\nPendaftaran kampus & beasiswa\nSeleksi\nPengumuman\n\nBagikan Artikel :
URL:https://ieltspresso.com/event/university-of-padua-international-excellence-scholarship/
LOCATION:Italia
CATEGORIES:Beasiswa S1,Beasiswa S2,Partial Funded
END:VEVENT
BEGIN:VEVENT
DTSTART;VALUE=DATE:20251027
DTEND;VALUE=DATE:20260209
DTSTAMP:20260423T195347
CREATED:20241129T024359Z
LAST-MODIFIED:20251123T171233Z
UID:15532-1761523200-1770595199@ieltspresso.com
SUMMARY:Chinese Government Scholarship
DESCRIPTION:Open from 27 October until 8 February (Annual) \nRequirements \n\nIELTS/TOEFL tergantung kampus & program studi tujuan\nIPK tergantung kampus & program studi tujuan\nApplicants bukan warga negara dari Republik Rakyat Tiongkok\nUsia max. 25 tahun untuk S1\nUsia max. 35 tahun untuk S2 \nUsia max. 40 tahun untuk S3\nTelah memiliki sertifikat kemampuan bahasa China HSK level 4 untuk S2/S3 (khusus program studi yang berbahasa pengantar China)\nApplicants harus memenuhi keseluruhan kriteria dari program studi atau universitas tujuan (termasuk skor tes bahasa Inggris\, GPA\, dll)\n\nDocuments \n\nApplication form\nKTP/Passport\nIjazah & transkrip akademik\nStudy Plan\nProposal penelitian\nPre-admission Document\nSurat rekomendasi \nPortfolio (khusus program studi desain/seni)\nSKCK (non-criminal record report)\n\nBenefits \n\n100% tuition fee\nTunjangan hidup \nAsuransi kesehatan\nAccomodation\n\nTahapan Seleksi \n\nPendaftaran beasiswa \nEmbassy China akan mengirimkan shortlisted application kepada China Council\nPengumuman\n\nBagikan Artikel :
URL:https://ieltspresso.com/event/chinese-government-scholarship/
LOCATION:China\, China
CATEGORIES:Beasiswa S1,Beasiswa S2,Beasiswa S3,Full Funded
END:VEVENT
BEGIN:VEVENT
DTSTART;VALUE=DATE:20251015
DTEND;VALUE=DATE:20260216
DTSTAMP:20260423T195347
CREATED:20241129T082406Z
LAST-MODIFIED:20251123T165002Z
UID:15620-1760486400-1771199999@ieltspresso.com
SUMMARY:Swedish Institute Scholarship for Global Professionals (SISGP)
DESCRIPTION:Open from 15 October until 15 February (Annual) \nRequirements \n\nTidak wajib IELTS/TOEFL\nTidak ada syarat IPK\nTidak ada syarat umur\nPelamar hanya boleh mendaftar pada universitas Swedia yang masuk ke dalam list kerjasama beasiswa SISGP \nHarus memiliki LoA\nMemiliki pengalaman kerja minimal 3\,000 jam atau 2 tahun (bisa magang\, part-time\, full-time\, dan jenis pekerjaan lainnya)\n\nDocuments \n\nApplication form\nKTP/Passport\nLoA\nCV\nSurat rekomendasi\nMotivation Letter/Essay\nBukti pengalaman kerja\, organisasi sosial\, dan kepemimpinan\n\nBenefits \n\n100% tuition fee\nTunjangan hidup SEK 12\,000 atau Rp20 juta\nTunjangan perjalanan (transportasi) senilai SEK 15\,000 atau Rp26 juta\nBiaya Keberangkatan\nKesempatan berjejaring dengan alumni komunitas Swedish Institute Network for Global Leaders dan Swedish Institute Alumni Network\nTIDAK menanggung biaya pendaftaran ke universitas tujuan. (Namun secara umum biaya admission di Swedia cukup terjangkau\, yaitu rata-rata SEK 900 atau Rp1\,5 juta)\n\nTahapan Seleksi \n\nPendaftaran kampus & beasiswa\nScreening & evaluasi kandidat: 25 Februari–25 Maret 2026\nPengumuman seleksi kampus (LoA): 26 Maret 2026\nEvaluasi dan pengumuman akhir beasiswa: 26 Maret–29 April 2026\n\nBagikan Artikel :
URL:https://ieltspresso.com/event/swedish-institute-scholarship-for-global-professionals/
LOCATION:Swedia
CATEGORIES:Beasiswa S2,Full Funded
END:VEVENT
BEGIN:VEVENT
DTSTART;VALUE=DATE:20251013
DTEND;VALUE=DATE:20260112
DTSTAMP:20260423T195347
CREATED:20251123T163549Z
LAST-MODIFIED:20251123T163750Z
UID:20625-1760313600-1768175999@ieltspresso.com
SUMMARY:Erasmus Mundus Global Markets\, Local Creativity (GLOÇAL) Scholarship
DESCRIPTION:Open from October until 12 January (Annual) \nRequirements \n\nIELTS min. 6.5 tanpa ada skor di bawah 6.0 (IELTS One Skill Retake diperbolehkan)\nIPK min. 3\,10/4\,00 \nLulus S1/sederajat\nMemilih 1 study track (specialization) yang ditawarkan (3 universitas)\nMemiliki academic background dari program studi di bawah ini:\n\nAnthropology\, Business (including Business and Entrepreneurship\, Business History\, Business Philosophy\, and/or Business Strategy)\nEconomics (including Economic Development\, Economic History\, and Economic Philosophy) \nGlobal Business Marketing\nGlobal Governance\nGlobal Studies\nHistory\nInternational Business\nInternational Relations/Studies\nLiberal Arts\nLiterature\nPhilosophy\nPolitical Sciences\nPsychology\nRegional History (where applicable to regional studies within GLOCAL study tracks)\nSociology\nSocial Policy (at Masters level only)\nSustainability\nTrade\nUrban Policy/Studies\n\n\n\nDocuments \n\nApplication form\nKTP/Passport\nCV\nSurat rekomendasi \nIjazah & transkrip akademik yang sudah diterjemahkan\nStatement of Purpose\n\nBenefits \n\n100% tuition fee \nTunjungan hidup\nBiaya mobilisasi & relokasi\nBiaya perjalanan\nTiket pesawat PP\nAsuransi kesehatan\nVISA Student\nFasilitas VISA kerja setelah lulus (buat yang ingin lanjut kerja di Eropa)\n\nTahapan Seleksi \n\nPendaftaran beasiswa\nSeleksi administrasi\nSeleksi wawancara\nPengumuman\n\nBagikan Artikel :
URL:https://ieltspresso.com/event/erasmus-mundus-global-markets-local-creativity-glocal-scholarship/
LOCATION:Uni Eropa
CATEGORIES:Beasiswa S2,Full Funded
END:VEVENT
BEGIN:VEVENT
DTSTART;VALUE=DATE:20251008
DTEND;VALUE=DATE:20260109
DTSTAMP:20260423T195347
CREATED:20241129T021508Z
LAST-MODIFIED:20251124T024136Z
UID:15513-1759881600-1767916799@ieltspresso.com
SUMMARY:Eiffel Excellence Scholarship
DESCRIPTION:Open from October until 8 January (Annual) \nRequirements \n\nUsia max. 29 tahun (S2)\nUsia max. 35 tahun (S3)\nPendaftar Eiffel Excellence Scholarship pertama kalinya\nTidak sedang tinggal di Perancis\nSudah diterima di universitas tujuan\nIELTS/TOEFL/TOEIC (opsional)\nDELF/DALF/TCF/TEF (opsional) \nProgram studi yang bisa didaftarkan:\n\nScience and Technology: Biology and Health\, Ecological Transition\, Mathematics and Digital Sciences\, Engineering \nHumanities and Social Sciences: French History\, Language and Civilization\, Law and Political Science\, Economics and Management\n\n\n\nDocuments \n\nApplication form\nKTP/Passport\nCV\nIjazah & transkrip akademik\nStatement of Purpose\nCover Letter (professional project)\nSurat rekomendasi (opsional)\n\nBenefits \n\nProgram Master’s Degree: Tunjangan hidup €1\,181/bulan atau Rp22\,7 juta/bulan\nProgram PhD: Tunjangan hidup €1\,800/bulan atau Rp34\, juta/bulan\nBiaya perjalanan\nAsuransi kesehatan\nTiket pesawat PP\nTunjangan tempat tinggal\nKegiatan budaya\n\nTahapan Seleksi \n\nPendaftaran kampus & beasiswa\nSeleksi administrasi\nSeleksi wawancara\nPengumuman\n\nBagikan Artikel :
URL:https://ieltspresso.com/event/eiffel-excellence-scholarship/
LOCATION:Prancis
CATEGORIES:Beasiswa S2,Beasiswa S3,Partial Funded
END:VEVENT
BEGIN:VEVENT
DTSTART;VALUE=DATE:20251006
DTEND;VALUE=DATE:20260109
DTSTAMP:20260423T195347
CREATED:20251123T164028Z
LAST-MODIFIED:20251123T164028Z
UID:20626-1759708800-1767916799@ieltspresso.com
SUMMARY:Erasmus Mundus-European Public Health Master Scholarship
DESCRIPTION:Open from October until 8 January (Annual) \nRequirements \n\nIELTS min. 6.5 \nIPK min. 3\,10/4\,00 \nLulus S1/sederajat\nKriteria Penilaian:\n\nAlasan memilih Europubhealth Master: Nilai tambah bagi mahasiswa untuk lulus dari program ini dan motivasi untuk spesialisasi tahun kedua yang sejalan dengan pelatihan dan prospek karier sebelumnya\nKredibilitas pendidikan: Nilai\, klasifikasi\, nilai\, dan penghargaan yang diperoleh dalam pelatihan sebelumnya\nPengalaman profesional: Pengalaman kerja di bidang kesehatan masyarakat\, perawatan kesehatan\, atau pekerjaan sosial (termasuk kerja sukarela\, penempatan\, pekerjaan musim panas\, dll)\nProyek atau prospek internasional\nKeterampilan pribadi (adaptasi budaya\, otonomi\, inisiatif\, kesesuaian untuk kerja tim)\n\n\n\nDocuments \n\nApplication form\nKTP/Passport\nCV\nMotivation Letter\nIjazah & transkrip akademik\nSurat rekomendasi\nBukti domisili (maksimal diterbitkan 12 bulan sebelum deadline aplikasi)\nDokumen tambahan lainnya sesuai track universitas yang dipilih\n\nBenefits \n\n100% tuition fee \nTunjungan hidup\nBiaya mobilisasi & relokasi\nBiaya perjalanan\nTiket pesawat PP\nAsuransi kesehatan\nVISA Student\nFasilitas VISA kerja setelah lulus (buat yang ingin lanjut kerja di Eropa)\n\nTahapan Seleksi \n\nPendaftaran beasiswa\nSeleksi administrasi\nSeleksi wawancara (dengan professor Erasmus Mundus Europubhealth)\nPengumuman\n\nBagikan Artikel :
URL:https://ieltspresso.com/event/erasmus-mundus-european-public-health-master-scholarship/
LOCATION:Uni Eropa
CATEGORIES:Beasiswa S2,Full Funded
END:VEVENT
BEGIN:VEVENT
DTSTART;VALUE=DATE:20251001
DTEND;VALUE=DATE:20260301
DTSTAMP:20260423T195347
CREATED:20251121T030250Z
LAST-MODIFIED:20251121T035647Z
UID:20401-1759276800-1772323199@ieltspresso.com
SUMMARY:VISTEC University Scholarship
DESCRIPTION:Open in: Oktober 2025/2026–Februari 2026/2027 \nRequirement \n\n\n\nIELTS/TOEFL tergantung program studi tujuan \nIPK tergantung program studi tujuan\nMemenuhi syarat admission program studi di VISTEC University\nTerbuka untuk pendaftar pada program studi:\n\nScience: Chemistry\, Biochemistry\, Biology\, Biotechnology\, Computer Science\, Physics\, Mathematics\, atau yang relevan.\nEngineering: Chemical\, Materials\, Electrical\, Biological\, Environmental\, Mechanical\, Computer\, atau yang relevan.\nApplied Science: Medical Technology\, Pharmacy\, Information Technology\, ICT\, atau yang relevan\n\n\n\n\n\nDocuments \n\nIjazah & transkrip akademik\nMotivational Letter\nSurat rekomendasi\nDokumen pendukung lainnya\n\nBenefit  \n\n100% tuition fee \nTunjangan hidup\nResearch grant\nBiaya perjalanan\nPersonal computers\, books\, & stationary\n\nTahapan Seleksi \n\nPendaftaran\nSeleksi administrasi\nSeleksi wawancara (jika ada)\nPengumuman\n\nBagikan Artikel :
URL:https://ieltspresso.com/event/vistec-university-scholarship/
LOCATION:Thailand
CATEGORIES:Beasiswa S2,Beasiswa S3,Full Funded
END:VEVENT
BEGIN:VEVENT
DTSTART;VALUE=DATE:20251001
DTEND;VALUE=DATE:20260128
DTSTAMP:20260423T195347
CREATED:20241127T085923Z
LAST-MODIFIED:20241127T085923Z
UID:15302-1759276800-1769558399@ieltspresso.com
SUMMARY:Erasmus Mundus Joint Master Degree
DESCRIPTION:1 Oktober – 27 Januari \n  \nRequirement \n\nTidak terdaftar sebagai penduduk di Negara Anggota Uni Eropa manapun.\nBelum pernah melakukan kegiatan utama seperti kuliah\, bekerja\, dan sebagainya selama lebih dari 12 bulan dalam 3 tahun terakhir di negara anggota Uni Eropa manapun.\nTelah menyelesaikan pendidikan S1 yang relevan sebelum tenggat waktu pendaftaran program Erasmus Mundus.\nTelah diterima di salah satu program Erasmus Mundus.\n\n  \nDocuments \n\nKTP\nPaspor\nDua Surat Rekomendasi\nSertifikat kemampuan Bahasa Inggris (TOEFL IBT min. 80 atau IELTS min. 6.5)\nMotivation Letter atau Statement of Purpose\nCurriculum Vitae (CV)\nMengisi Formulir Aplikasi\n\n  \nBenefit \n\nBiaya kuliah;\nBiaya hidup bulanan;\nBiaya perjalanan dari Indonesia dan juga perpindahan negara selama studi;\nVisa;\nAsuransi kesehatan;\nKuliah (minimal) di 2 universitas dan 2 negara anggota Uni Eropa yang berbeda\, maksimal 4 negara;\nMendapatkan ijazah Double Degree\, Multiple Degree atau Joint Degree yang bisa dipakai di berbagai negara;\nTanpa ikatan dinas\, jadi bebas berkarier di mana saja setelah lulus.\n\n  \nTahapan Seleksi \n\nSeleksi Administrasi\nInterview\nResult\n\nBagikan Artikel :
URL:https://ieltspresso.com/event/erasmus-mundus-joint-master-degree/
LOCATION:Uni Eropa
CATEGORIES:Beasiswa S2,Full Funded
END:VEVENT
BEGIN:VEVENT
DTSTART;VALUE=DATE:20250301
DTEND;VALUE=DATE:20250416
DTSTAMP:20260423T195347
CREATED:20241127T072042Z
LAST-MODIFIED:20241127T072042Z
UID:15195-1740787200-1744761599@ieltspresso.com
SUMMARY:GIST (Fall Semester)
DESCRIPTION:March to 15 April \n  \nRequirement \n\nPelamar memiliki atau diharapkan memiliki gelar akhir sebelum pendaftaran di GIST (Gelar sarjana harus setara dengan gelar Sarjana Korea yang membutuhkan waktu empat tahun belajar)\nIELTS (6.5)\, TOEFL iBT (80)\, TOEFL PBT (550)\, TOEIC (750)\n\n  \nDocuments \n\nMengisi formulir pendaftaran pada laman DGIST International Applicants;\nStatement of purpose\, berisi: Rencana jarak menengah maupun panjang sebagai peneliti\, serta motivasi kuliah; Bidang riset yang ditekuni\, jelaskan apa kepentingan serta rencana ke depannya; Pengalaman penelitian dan akademis relevan dengan bidang studi tujuan; Pengalaman volunteer\, magang\, atau kerja.\nIjazah terakhir;\nTranskrip nilai terakhir;\nSertifikat Bahasa Inggris tanpa minimal skor;\nMengirimkan surat rekomendasi ke Email admission@dgist.ac.kr.\n\n  \nBenefit \n\nBiaya pendidikan penuh\, yaitu 7.280.000 KRW/semester atau sekitar Rp83\,5 juta/semester;\nUang saku per tahun 15.000.000 KRW atau setara dengan Rp 172 juta bagi program Magister dan 22.000.000 KRW atau setara dengan Rp 252 juta bagi program Doktor. Nominal ini bervariasi tergantung pada pencapaian penelitian pribadi dan kegiatan penelitian. Selain uang saku\, kamu juga akan mendapat ekstra insentif tiap tahunnya;\nTunjangan akomodasi.\n\n  \nTahapan Seleksi \n\nSeleksi Administrasi\nInterview\nPengumuman Akhir\n\nBagikan Artikel :
URL:https://ieltspresso.com/event/gist-fall-semester/
LOCATION:Korea Selatan
CATEGORIES:Beasiswa S2,Beasiswa S3,Full Funded
END:VEVENT
END:VCALENDAR