BEGIN:VCALENDAR
VERSION:2.0
PRODID:-//IELTSpresso - ECPv6.11.2//NONSGML v1.0//EN
CALSCALE:GREGORIAN
METHOD:PUBLISH
X-ORIGINAL-URL:https://ieltspresso.com
X-WR-CALDESC:Events for IELTSpresso
REFRESH-INTERVAL;VALUE=DURATION:PT1H
X-Robots-Tag:noindex
X-PUBLISHED-TTL:PT1H
BEGIN:VTIMEZONE
TZID:Asia/Krasnoyarsk
BEGIN:STANDARD
TZOFFSETFROM:+0700
TZOFFSETTO:+0700
TZNAME:+07
DTSTART:20250101T000000
END:STANDARD
END:VTIMEZONE
BEGIN:VEVENT
DTSTART;VALUE=DATE:20251013
DTEND;VALUE=DATE:20260112
DTSTAMP:20260423T211536
CREATED:20251123T163549Z
LAST-MODIFIED:20251123T163750Z
UID:20625-1760313600-1768175999@ieltspresso.com
SUMMARY:Erasmus Mundus Global Markets\, Local Creativity (GLOÇAL) Scholarship
DESCRIPTION:Open from October until 12 January (Annual) \nRequirements \n\nIELTS min. 6.5 tanpa ada skor di bawah 6.0 (IELTS One Skill Retake diperbolehkan)\nIPK min. 3\,10/4\,00 \nLulus S1/sederajat\nMemilih 1 study track (specialization) yang ditawarkan (3 universitas)\nMemiliki academic background dari program studi di bawah ini:\n\nAnthropology\, Business (including Business and Entrepreneurship\, Business History\, Business Philosophy\, and/or Business Strategy)\nEconomics (including Economic Development\, Economic History\, and Economic Philosophy) \nGlobal Business Marketing\nGlobal Governance\nGlobal Studies\nHistory\nInternational Business\nInternational Relations/Studies\nLiberal Arts\nLiterature\nPhilosophy\nPolitical Sciences\nPsychology\nRegional History (where applicable to regional studies within GLOCAL study tracks)\nSociology\nSocial Policy (at Masters level only)\nSustainability\nTrade\nUrban Policy/Studies\n\n\n\nDocuments \n\nApplication form\nKTP/Passport\nCV\nSurat rekomendasi \nIjazah & transkrip akademik yang sudah diterjemahkan\nStatement of Purpose\n\nBenefits \n\n100% tuition fee \nTunjungan hidup\nBiaya mobilisasi & relokasi\nBiaya perjalanan\nTiket pesawat PP\nAsuransi kesehatan\nVISA Student\nFasilitas VISA kerja setelah lulus (buat yang ingin lanjut kerja di Eropa)\n\nTahapan Seleksi \n\nPendaftaran beasiswa\nSeleksi administrasi\nSeleksi wawancara\nPengumuman\n\nBagikan Artikel :
URL:https://ieltspresso.com/event/erasmus-mundus-global-markets-local-creativity-glocal-scholarship/
LOCATION:Uni Eropa
CATEGORIES:Beasiswa S2,Full Funded
END:VEVENT
BEGIN:VEVENT
DTSTART;VALUE=DATE:20251008
DTEND;VALUE=DATE:20260109
DTSTAMP:20260423T211536
CREATED:20241129T021508Z
LAST-MODIFIED:20251124T024136Z
UID:15513-1759881600-1767916799@ieltspresso.com
SUMMARY:Eiffel Excellence Scholarship
DESCRIPTION:Open from October until 8 January (Annual) \nRequirements \n\nUsia max. 29 tahun (S2)\nUsia max. 35 tahun (S3)\nPendaftar Eiffel Excellence Scholarship pertama kalinya\nTidak sedang tinggal di Perancis\nSudah diterima di universitas tujuan\nIELTS/TOEFL/TOEIC (opsional)\nDELF/DALF/TCF/TEF (opsional) \nProgram studi yang bisa didaftarkan:\n\nScience and Technology: Biology and Health\, Ecological Transition\, Mathematics and Digital Sciences\, Engineering \nHumanities and Social Sciences: French History\, Language and Civilization\, Law and Political Science\, Economics and Management\n\n\n\nDocuments \n\nApplication form\nKTP/Passport\nCV\nIjazah & transkrip akademik\nStatement of Purpose\nCover Letter (professional project)\nSurat rekomendasi (opsional)\n\nBenefits \n\nProgram Master’s Degree: Tunjangan hidup €1\,181/bulan atau Rp22\,7 juta/bulan\nProgram PhD: Tunjangan hidup €1\,800/bulan atau Rp34\, juta/bulan\nBiaya perjalanan\nAsuransi kesehatan\nTiket pesawat PP\nTunjangan tempat tinggal\nKegiatan budaya\n\nTahapan Seleksi \n\nPendaftaran kampus & beasiswa\nSeleksi administrasi\nSeleksi wawancara\nPengumuman\n\nBagikan Artikel :
URL:https://ieltspresso.com/event/eiffel-excellence-scholarship/
LOCATION:Prancis
CATEGORIES:Beasiswa S2,Beasiswa S3,Partial Funded
END:VEVENT
BEGIN:VEVENT
DTSTART;VALUE=DATE:20251006
DTEND;VALUE=DATE:20260109
DTSTAMP:20260423T211536
CREATED:20251123T164028Z
LAST-MODIFIED:20251123T164028Z
UID:20626-1759708800-1767916799@ieltspresso.com
SUMMARY:Erasmus Mundus-European Public Health Master Scholarship
DESCRIPTION:Open from October until 8 January (Annual) \nRequirements \n\nIELTS min. 6.5 \nIPK min. 3\,10/4\,00 \nLulus S1/sederajat\nKriteria Penilaian:\n\nAlasan memilih Europubhealth Master: Nilai tambah bagi mahasiswa untuk lulus dari program ini dan motivasi untuk spesialisasi tahun kedua yang sejalan dengan pelatihan dan prospek karier sebelumnya\nKredibilitas pendidikan: Nilai\, klasifikasi\, nilai\, dan penghargaan yang diperoleh dalam pelatihan sebelumnya\nPengalaman profesional: Pengalaman kerja di bidang kesehatan masyarakat\, perawatan kesehatan\, atau pekerjaan sosial (termasuk kerja sukarela\, penempatan\, pekerjaan musim panas\, dll)\nProyek atau prospek internasional\nKeterampilan pribadi (adaptasi budaya\, otonomi\, inisiatif\, kesesuaian untuk kerja tim)\n\n\n\nDocuments \n\nApplication form\nKTP/Passport\nCV\nMotivation Letter\nIjazah & transkrip akademik\nSurat rekomendasi\nBukti domisili (maksimal diterbitkan 12 bulan sebelum deadline aplikasi)\nDokumen tambahan lainnya sesuai track universitas yang dipilih\n\nBenefits \n\n100% tuition fee \nTunjungan hidup\nBiaya mobilisasi & relokasi\nBiaya perjalanan\nTiket pesawat PP\nAsuransi kesehatan\nVISA Student\nFasilitas VISA kerja setelah lulus (buat yang ingin lanjut kerja di Eropa)\n\nTahapan Seleksi \n\nPendaftaran beasiswa\nSeleksi administrasi\nSeleksi wawancara (dengan professor Erasmus Mundus Europubhealth)\nPengumuman\n\nBagikan Artikel :
URL:https://ieltspresso.com/event/erasmus-mundus-european-public-health-master-scholarship/
LOCATION:Uni Eropa
CATEGORIES:Beasiswa S2,Full Funded
END:VEVENT
BEGIN:VEVENT
DTSTART;VALUE=DATE:20251001
DTEND;VALUE=DATE:20260301
DTSTAMP:20260423T211536
CREATED:20251121T030250Z
LAST-MODIFIED:20251121T035647Z
UID:20401-1759276800-1772323199@ieltspresso.com
SUMMARY:VISTEC University Scholarship
DESCRIPTION:Open in: Oktober 2025/2026–Februari 2026/2027 \nRequirement \n\n\n\nIELTS/TOEFL tergantung program studi tujuan \nIPK tergantung program studi tujuan\nMemenuhi syarat admission program studi di VISTEC University\nTerbuka untuk pendaftar pada program studi:\n\nScience: Chemistry\, Biochemistry\, Biology\, Biotechnology\, Computer Science\, Physics\, Mathematics\, atau yang relevan.\nEngineering: Chemical\, Materials\, Electrical\, Biological\, Environmental\, Mechanical\, Computer\, atau yang relevan.\nApplied Science: Medical Technology\, Pharmacy\, Information Technology\, ICT\, atau yang relevan\n\n\n\n\n\nDocuments \n\nIjazah & transkrip akademik\nMotivational Letter\nSurat rekomendasi\nDokumen pendukung lainnya\n\nBenefit  \n\n100% tuition fee \nTunjangan hidup\nResearch grant\nBiaya perjalanan\nPersonal computers\, books\, & stationary\n\nTahapan Seleksi \n\nPendaftaran\nSeleksi administrasi\nSeleksi wawancara (jika ada)\nPengumuman\n\nBagikan Artikel :
URL:https://ieltspresso.com/event/vistec-university-scholarship/
LOCATION:Thailand
CATEGORIES:Beasiswa S2,Beasiswa S3,Full Funded
END:VEVENT
BEGIN:VEVENT
DTSTART;VALUE=DATE:20251001
DTEND;VALUE=DATE:20260128
DTSTAMP:20260423T211536
CREATED:20241127T085923Z
LAST-MODIFIED:20241127T085923Z
UID:15302-1759276800-1769558399@ieltspresso.com
SUMMARY:Erasmus Mundus Joint Master Degree
DESCRIPTION:1 Oktober – 27 Januari \n  \nRequirement \n\nTidak terdaftar sebagai penduduk di Negara Anggota Uni Eropa manapun.\nBelum pernah melakukan kegiatan utama seperti kuliah\, bekerja\, dan sebagainya selama lebih dari 12 bulan dalam 3 tahun terakhir di negara anggota Uni Eropa manapun.\nTelah menyelesaikan pendidikan S1 yang relevan sebelum tenggat waktu pendaftaran program Erasmus Mundus.\nTelah diterima di salah satu program Erasmus Mundus.\n\n  \nDocuments \n\nKTP\nPaspor\nDua Surat Rekomendasi\nSertifikat kemampuan Bahasa Inggris (TOEFL IBT min. 80 atau IELTS min. 6.5)\nMotivation Letter atau Statement of Purpose\nCurriculum Vitae (CV)\nMengisi Formulir Aplikasi\n\n  \nBenefit \n\nBiaya kuliah;\nBiaya hidup bulanan;\nBiaya perjalanan dari Indonesia dan juga perpindahan negara selama studi;\nVisa;\nAsuransi kesehatan;\nKuliah (minimal) di 2 universitas dan 2 negara anggota Uni Eropa yang berbeda\, maksimal 4 negara;\nMendapatkan ijazah Double Degree\, Multiple Degree atau Joint Degree yang bisa dipakai di berbagai negara;\nTanpa ikatan dinas\, jadi bebas berkarier di mana saja setelah lulus.\n\n  \nTahapan Seleksi \n\nSeleksi Administrasi\nInterview\nResult\n\nBagikan Artikel :
URL:https://ieltspresso.com/event/erasmus-mundus-joint-master-degree/
LOCATION:Uni Eropa
CATEGORIES:Beasiswa S2,Full Funded
END:VEVENT
BEGIN:VEVENT
DTSTART;VALUE=DATE:20250301
DTEND;VALUE=DATE:20250416
DTSTAMP:20260423T211536
CREATED:20241127T072042Z
LAST-MODIFIED:20241127T072042Z
UID:15195-1740787200-1744761599@ieltspresso.com
SUMMARY:GIST (Fall Semester)
DESCRIPTION:March to 15 April \n  \nRequirement \n\nPelamar memiliki atau diharapkan memiliki gelar akhir sebelum pendaftaran di GIST (Gelar sarjana harus setara dengan gelar Sarjana Korea yang membutuhkan waktu empat tahun belajar)\nIELTS (6.5)\, TOEFL iBT (80)\, TOEFL PBT (550)\, TOEIC (750)\n\n  \nDocuments \n\nMengisi formulir pendaftaran pada laman DGIST International Applicants;\nStatement of purpose\, berisi: Rencana jarak menengah maupun panjang sebagai peneliti\, serta motivasi kuliah; Bidang riset yang ditekuni\, jelaskan apa kepentingan serta rencana ke depannya; Pengalaman penelitian dan akademis relevan dengan bidang studi tujuan; Pengalaman volunteer\, magang\, atau kerja.\nIjazah terakhir;\nTranskrip nilai terakhir;\nSertifikat Bahasa Inggris tanpa minimal skor;\nMengirimkan surat rekomendasi ke Email admission@dgist.ac.kr.\n\n  \nBenefit \n\nBiaya pendidikan penuh\, yaitu 7.280.000 KRW/semester atau sekitar Rp83\,5 juta/semester;\nUang saku per tahun 15.000.000 KRW atau setara dengan Rp 172 juta bagi program Magister dan 22.000.000 KRW atau setara dengan Rp 252 juta bagi program Doktor. Nominal ini bervariasi tergantung pada pencapaian penelitian pribadi dan kegiatan penelitian. Selain uang saku\, kamu juga akan mendapat ekstra insentif tiap tahunnya;\nTunjangan akomodasi.\n\n  \nTahapan Seleksi \n\nSeleksi Administrasi\nInterview\nPengumuman Akhir\n\nBagikan Artikel :
URL:https://ieltspresso.com/event/gist-fall-semester/
LOCATION:Korea Selatan
CATEGORIES:Beasiswa S2,Beasiswa S3,Full Funded
END:VEVENT
END:VCALENDAR